BEGIN:VCALENDAR
VERSION:2.0
PRODID:-//The Oxford Magazine - ECPv6.15.20//NONSGML v1.0//EN
CALSCALE:GREGORIAN
METHOD:PUBLISH
X-WR-CALNAME:The Oxford Magazine
X-ORIGINAL-URL:https://theoxfordmagazine.com
X-WR-CALDESC:Events for The Oxford Magazine
REFRESH-INTERVAL;VALUE=DURATION:PT1H
X-Robots-Tag:noindex
X-PUBLISHED-TTL:PT1H
BEGIN:VTIMEZONE
TZID:Europe/London
BEGIN:DAYLIGHT
TZOFFSETFROM:+0000
TZOFFSETTO:+0100
TZNAME:BST
DTSTART:20240331T010000
END:DAYLIGHT
BEGIN:STANDARD
TZOFFSETFROM:+0100
TZOFFSETTO:+0000
TZNAME:GMT
DTSTART:20241027T010000
END:STANDARD
BEGIN:DAYLIGHT
TZOFFSETFROM:+0000
TZOFFSETTO:+0100
TZNAME:BST
DTSTART:20250330T010000
END:DAYLIGHT
BEGIN:STANDARD
TZOFFSETFROM:+0100
TZOFFSETTO:+0000
TZNAME:GMT
DTSTART:20251026T010000
END:STANDARD
BEGIN:DAYLIGHT
TZOFFSETFROM:+0000
TZOFFSETTO:+0100
TZNAME:BST
DTSTART:20260329T010000
END:DAYLIGHT
BEGIN:STANDARD
TZOFFSETFROM:+0100
TZOFFSETTO:+0000
TZNAME:GMT
DTSTART:20261025T010000
END:STANDARD
BEGIN:DAYLIGHT
TZOFFSETFROM:+0000
TZOFFSETTO:+0100
TZNAME:BST
DTSTART:20270328T010000
END:DAYLIGHT
BEGIN:STANDARD
TZOFFSETFROM:+0100
TZOFFSETTO:+0000
TZNAME:GMT
DTSTART:20271031T010000
END:STANDARD
END:VTIMEZONE
BEGIN:VEVENT
DTSTART;TZID=Europe/London:20250920T000000
DTEND;TZID=Europe/London:20260628T235959
DTSTAMP:20260423T023424
CREATED:20251120T235310Z
LAST-MODIFIED:20251227T160048Z
UID:10011682-1758326400-1782691199@theoxfordmagazine.com
SUMMARY:Pat Suet-Bik Hui & the Three Perfections
DESCRIPTION:Pat Suet-Bik Hui & the Three Perfections\n\n\n\n\n\n\n\n\nAbout Pat Suet-Bik Hui & the Three Perfections\n\n\n\nThis exhibition celebrates the work of Pat Suet-Bik Hui 許雪碧 (b. 1943)\, a US-based Hong Kong artist\, shown alongside others who explore the tradition of the ‘three perfections’ 三絕 – the harmonious blending of poetry\, calligraphy\, and painting. \n\n\n\nFeaturing works by Hui\, her contemporaries\, her teacher Lui Shou-Kwan\, and artists of his generation\, as well as earlier examples from the 17th to 19th centuries\, the exhibition offers a rich context for understanding Hui as both an innovator and a guardian of tradition. \n\n\n\nIn this artistic lineage\, calligraphic brushstrokes carry as much compositional weight as painted forms\, while poetry and imagery combine to create expressions neither can achieve alone. \n\n\n\nHui’s contemporary approach merges abstract and semi-abstract ink and colour washes with understated calligraphy\, inscribing poems that reflect on themes including love\, loss\, and the quiet joys of drinking. \n\n\n\nVisitors will find translations of many inscribed poems and guidance on interpreting the interplay of painting\, calligraphy\, and poetry within individual works. \n\n\n\nHui gifted her paintings to art historian Michael Sullivan\, whose collection was bequeathed to the Ashmolean Museum in 2013. \n\n\n\n\n\n\n\nTickets\n\n\n\n\n\n\n\n\n\n\n\nBooking information\n\n\n\nPrice: \n\n\n\nFree \n\n\n\nLocation: \n\n\n\nGallery 11 \n\n\n\n\n\n\n\n\n\n\n\n			\n				\n			\n		Painting with Poem by Xin Qiji\, Pat Suet-Bik Hui & Wucius Wong\, 1987\, ink & colour on paper © Ashmolean Museum\n\n\n\n\n\n\n			\n				\n			\n		Painting with poem by Paul Ka-Yin Kwok\, Pat Suet-Bik Hui & Paul Ka-Yin Kwok\, 1999\, ink colour on paper © Ashmolean Museum\n\n\n\n\n\n\n			\n				\n			\n		Painting with poem by Nara Singde\, Pat Suet-Bik Hui\, 1991\, ink & colour on paper © Ashmolean Museum
URL:https://theoxfordmagazine.com/event/pat-suet-bik-hui-the-three-perfections/
LOCATION:Ashmolean Museum\, 35 Beaumont Street\, Oxford\, Oxfordshire\, OX1 2PH
CATEGORIES:Exhibitions
ATTACH;FMTTYPE=image/jpeg:https://theoxfordmagazine.com/wp-content/uploads/pat-suet-bik-hui-01-1600x900-1.webp
GEO:51.7550824;-1.2611489
X-APPLE-STRUCTURED-LOCATION;VALUE=URI;X-ADDRESS=Ashmolean Museum 35 Beaumont Street Oxford Oxfordshire OX1 2PH;X-APPLE-RADIUS=500;X-TITLE=35 Beaumont Street:geo:-1.2611489,51.7550824
END:VEVENT
BEGIN:VEVENT
DTSTART;TZID=Europe/London:20260319T000000
DTEND;TZID=Europe/London:20260816T235959
DTSTAMP:20260423T023424
CREATED:20251117T212630Z
LAST-MODIFIED:20260318T060036Z
UID:10011663-1773878400-1786924799@theoxfordmagazine.com
SUMMARY:In Bloom: How Plants Changed Our World
DESCRIPTION:About In Bloom: How Plants Changed Our World\n\n\n\nWhat do we really know about the plants and flowers in our gardens and window boxes? Beyond their beauty\, many hold hidden histories – tales of exploration\, obsession\, and knowledge. \n\n\n\nIn Bloom: How Plants Changed Our World is a major new exhibition that takes visitors on a journey from Oxford to the farthest corners of the globe\, uncovering the fascinating stories behind some of Britain’s most beloved blooms\, from roses and tulips to camellias and peonies. \n\n\n\nFeaturing over 100 artworks and objects – including drawings\, paintings\, rare prints\, and ceramics – the exhibition explores our changing relationship with the natural world. \n\n\n\nFrom the curiosity and ingenuity of early plant explorers to the global networks that shaped trade\, In Bloom reveals how the pursuit of exotic plants transformed landscapes\, economies\, and cultures\, leaving a legacy that continues to influence our world today. \n\n\n\n\n\n\n\nTickets\n\n\n\n\n\n\n\nTickets for this major exhibition will be available to book later in the year. \n\n\n\n\n\n\n\nBooking information\n\n\n\nTickets for In Bloom: How Plants Changed Our World will be available to book later in the year.  \n\n\n\nVisitors who are Ashmolean Members can enjoy unlimited free access to this major exhibition\, along with exclusive benefits including Members’ Exhibition Previews\, special events\, and discounts in the museum shop\, café\, and restaurant. \n\n\n\nAshmolean Members are invited to the Members’ Exhibition Preview on 18 March 2026\, offering an early opportunity to explore the exhibition before it opens to the public.  \n\n\n\nMembership also includes a twice-yearly magazine and helps support the museum’s work and programmes. For those considering joining\, becoming a Member ensures free access to all exhibitions and a range of exclusive experiences throughout the year. \n\n\n\n\n\n\n\n\n\nGallery\n\n\n\n\n\n			\n				\n			\n		A Vase of Flowers\, Simon Verelst\, c. 1669–1675\, oil on canvas\, © Ashmolean Museum \n\n\n\n\n			\n				\n			\n		John Tradescant the Younger as a Gardener\, attributed to Thomas de Critz\, 1648–1653\, oil on canvas © Ashmolean Museum \n\n\n\n\n			\n				\n			\n		Nelumbo lutea (yellow lotus)\, herbarium biological drawing\, Mark Catesby\, 1722\, ink on paper © Oxford University Herbaria\, Department of Biology \n\n\n\n\n			\n				\n			\n		Kew Wardian case\, c. 1870\, wood & glass. Courtesy Royal Botanic Gardens\, Kew\n\n\n\n\n			\n				\n			\n		Study of an Oriental poppy\, May Morris\, 1879\, watercolour & some bodycolour over indications in graphite © Ashmolean Museum\n\n\n\n\n			\n				\n			\n		Girl Smelling Orchids\, Sir Lawrence Alma Tadema\, 1879\, oil on panel. Courtesy the Richard Green Gallery\, London \n\n\n\n\n			\n				\n			\n		Pharmacy jar for mithridate\, Lambeth Pottery Factory\, c. 1738\, tin-glazed ceramic © Ashmolean Museum \n\n\n\n\n			\n				\n			\n		Plant model of Hypericum/St John’s Wort (detail)\, Robert Brendel\, c. 1860–1880\, papier mâché & wood © Oxford University Herbaria\, Department of Biology \n\n\n\n\n			\n				\n			\n		Duncan Grant\, Hollyhock\, Charleston\, Kate Friend\, 2019\, C-type print. Courtesy of the artist & Lyndsey Ingram \n\n\n\n\n			\n				\n			\n		‘What Is It In A Name’\, Anahita Norouzi\, 2022\, glass & brass. Courtesy of the artist & Galerie Nicolas Robert
URL:https://theoxfordmagazine.com/event/in-bloom-how-plants-changed-our-world/
LOCATION:Ashmolean Museum\, 35 Beaumont Street\, Oxford\, Oxfordshire\, OX1 2PH
CATEGORIES:Exhibitions
ATTACH;FMTTYPE=image/jpeg:https://theoxfordmagazine.com/wp-content/uploads/in-bloom-ashnomloean-exhibition-01-1920x1080-1-scaled.webp
GEO:51.7550824;-1.2611489
X-APPLE-STRUCTURED-LOCATION;VALUE=URI;X-ADDRESS=Ashmolean Museum 35 Beaumont Street Oxford Oxfordshire OX1 2PH;X-APPLE-RADIUS=500;X-TITLE=35 Beaumont Street:geo:-1.2611489,51.7550824
END:VEVENT
BEGIN:VEVENT
DTSTART;TZID=Europe/London:20260328T100000
DTEND;TZID=Europe/London:20260419T173000
DTSTAMP:20260423T023424
CREATED:20220401T092000Z
LAST-MODIFIED:20260327T011100Z
UID:10004745-1774692000-1776619800@theoxfordmagazine.com
SUMMARY:Big Easter Bunny Hunt
DESCRIPTION:Big Easter Bunny Hunt\n\n\n\n\n\n\n\n\nAbout Big Easter Bunny Hunt \n\n\n\nDon’t worry\, be hoppy this Easter! \n\n\n\nVisitors to Waterperry Gardens this Easter holiday are invited to hop along—bunny costumes optional—for a fun-filled adventure in search of missing carrots scattered throughout the stunning spring gardens. \n\n\n\nThe Waterperry bunny has dropped carrots across the grounds\, and it’s up to keen explorers to sniff them out. Using the provided map\, participants can mark each carrot’s location as they go. Along the way\, they’ll also uncover letters on the carrots that spell out a hidden word – solve the puzzle and claim a prize from the Garden Shop! \n\n\n\nChildren must be accompanied by an adult\, for whom the standard garden entrance fee applies. The gardens are open daily from 10.00 am to 5.30 pm\, including throughout the Easter period. \n\n\n\nNo pre-booking is required – just turn up\, enjoy the adventure\, and embrace the Easter spirit! \n\n\n\n\n\n\n\nTickets\n\n\n\n\n\n\n\nPlease see important booking information below. \n\n\n\n\n\n\n\nBooking information\n\n\n\nTicket prices:  \n\n\n\nGarden entrance fees: \n\n\n\nAdult – £12.95 \n\n\n\nChildren (Aged 16 and under) – Free \n\n\n\n£4.75 per child\, including a prize. Children must be accompanied by an adult for whom the garden entrance fee applies. \n\n\n\nDates & times: \n\n\n\nTrail is open from Saturday 28 March to Sunday 19 April from 10.00am to 5.30pm \n\n\n\nRunning time: \n\n\n\n6 hours 30 minutes
URL:https://theoxfordmagazine.com/event/big-easter-bunny-hunt-at-waterperry-gardens/
LOCATION:Waterperry Gardens\, Waterperry Gardens\, Wheatley\, Oxfordshire\, OX33 1JZ
CATEGORIES:Workshops
ATTACH;FMTTYPE=image/jpeg:https://theoxfordmagazine.com/wp-content/uploads/Big-Easter-Bunny-Hunt-1.webp
GEO:51.7525757;-1.0888286
X-APPLE-STRUCTURED-LOCATION;VALUE=URI;X-ADDRESS=Waterperry Gardens Waterperry Gardens Wheatley Oxfordshire OX33 1JZ;X-APPLE-RADIUS=500;X-TITLE=Waterperry Gardens:geo:-1.0888286,51.7525757
END:VEVENT
BEGIN:VEVENT
DTSTART;TZID=Europe/London:20260331T000000
DTEND;TZID=Europe/London:20260419T235959
DTSTAMP:20260423T023424
CREATED:20260216T172508Z
LAST-MODIFIED:20260422T034609Z
UID:10012026-1774915200-1776643199@theoxfordmagazine.com
SUMMARY:Mary Knowland: Lines of Enquiry
DESCRIPTION:Mary Knowland: Lines of Enquiry\n\n\n\n\n\n\n\n\nAbout Mary Knowland: Lines of Enquiry\n\n\n\nMary Knowland grew up surrounded by art; her father was a painter\, however\, her initial training was in ceramics with Robin Welch and then at Harrow School of Art. After many years exhibiting and selling\, she returned\, via a course in textiles\, to her drawing and painting roots but has more recently included ceramics in her practice. \n\n\n\nThis collection of work offers us insights into her process of enquiry through line and a variety of media\, working with the human form\, the rhythms of the coast\, the simplicity of everyday objects and natural forms. \n\n\n\nTwo approaches to making drawings and paintings will be apparent. Consciously controlled mark-making and brush strokes verging on the abstract sit alongside a much freer approach where she is not looking at the subject while the work is in progress\, yet capturing the essence of the subject.  \n\n\n\nDevelopment of an idea can be seen across a series of drawings where line also directly connects to the ceramics and\, in its various forms\, line is present throughout the exhibition. \n\n\n\n\n\n\n\nTickets\n\n\n\n\n\n\n\nPlease see important booking information below. \n\n\n\n\n\n\n\nBooking information\n\n\n\nTicket prices: \n\n\n\nFree entry \n\n\n\nDates & times: \n\n\n\nTuesday 31 March to Sunday 19 April 2026 \n\n\n\nExhibition Opening \n\n\n\nTuesday 31 March from 6.00pm to 8.00pm \n\n\n\nPlease join for drinks to celebrate the opening of this exhibition \n\n\n\nFree event. No booking required \n\n\n\nMeet the Artist \n\n\n\nWednesday 15 April from 1.30pm to 3.00pm \n\n\n\nJoin the artist for tea\, talk and an informal tour of the exhibition \n\n\n\nFree event. Book here \n\n\n\nSpecial Sunday Openings \n\n\n\nSunday 12 and Sunday 19 April from 12.00pm to 4.00pm \n\n\n\n\n\n\n\n\n\n\n\n\n\n\n\n\n\n\n\n\n\n\n\n\n\n\n\n\n\n\n\n\n\n\n\n\n\n\n\n\n\n\n\nAbout The North Wall Arts Centre\n\n\n\n\n			\n				\n			\n		\n\n\n\nThe North Wall Arts Centre is an an award-winning theatre\, gallery and performing arts centre located in Summertown\, North Oxford. The facility was opened in 2007\, and offers a fully flexible 200-seat theatre\, a public art gallery\, as well as studios for dance and drama. \n\n\n\nThe centre is owned by St Edward’s School and shared with the city\, and it was created for the benefit of emerging artists across a range of disciplines. The programme of events at The North Wall places emphasis on new and innovative work. \n\n\n\nDiscover more about The North Wall Arts Centre\, including travel\, access and venue information.
URL:https://theoxfordmagazine.com/event/mary-knowland-lines-of-enquiry/
LOCATION:The North Wall Arts Centre\, South Parade\, Oxford\, OX2 7JN
CATEGORIES:Exhibitions
ATTACH;FMTTYPE=image/jpeg:https://theoxfordmagazine.com/wp-content/uploads/Mary-Knowland-Lines-of-Enquiry.webp
GEO:51.7781313;-1.2676696
X-APPLE-STRUCTURED-LOCATION;VALUE=URI;X-ADDRESS=The North Wall Arts Centre South Parade Oxford OX2 7JN;X-APPLE-RADIUS=500;X-TITLE=South Parade:geo:-1.2676696,51.7781313
END:VEVENT
BEGIN:VEVENT
DTSTART;TZID=Europe/London:20260419T100000
DTEND;TZID=Europe/London:20260419T120000
DTSTAMP:20260423T023425
CREATED:20220909T134508Z
LAST-MODIFIED:20250906T012139Z
UID:10008967-1776592800-1776600000@theoxfordmagazine.com
SUMMARY:Wolvercote Community Market
DESCRIPTION:Wolvercote Community Market\n\n\n\n\n\n\n\n\nAbout Wolvercote Community Market\n\n\n\nEstablished in 2002\, Wolvercote Community Market is the longest running Farmers’ Market in Oxford\, and one of three in the North Oxford area. The market aims to provide the community with locally-produced great tasting food. \n\n\n\nThe Sunday market serves the community and visitors by providing fresh\, affordable and ethically sourced food as well as a place to meet\, eat and socialise with friends and neighbours. It also provides a free marketplace for local producers and crafts people. \n\n\n\nRegular stallholders bring fresh fruit and veg\, locally reared meat\, sustainably sourced fish\, artisan bread\, cheese and milk. Other traders produce fantastic cakes\, jams\, chutneys\, pasta\, chocolates and even plants and soaps. \n\n\n\nThe market has an amazing range of freshly made dishes from diverse food regions – Japanese\, Middle-Eastern\, Asian\, and the Mediterranean. There’s also a cafe that serves coffee\, tea\, cakes\, and a ‘Full Wolvercote’ breakfast. \n\n\n\nThe market is open every Sunday from 10.00am to noon at The White Hart Community Pub in Godstow Road\, Lower Wolvercote. \n\n\n\nThere is a Repair Café and bike clinic on the 2nd Sunday of each monthBring along your broken small electrical item\, and a trained volunteer will try to fix it for you and save it from the landfill. They also have volunteer mechanics to provide tune-ups and repairs\, and to offer advice to get your cycles rolling smoothly. \n\n\n\nIf you’re arriving by bicycle\, there are plenty of bike racks and a regular bike.
URL:https://theoxfordmagazine.com/event/wolvercote-community-market/2026-04-19/
LOCATION:The White Hart Wolvercote\, 126 Godstow Road\, Oxford\, Oxfordshire\, OX2 8PQ
CATEGORIES:Farmers Markets
ATTACH;FMTTYPE=image/jpeg:https://theoxfordmagazine.com/wp-content/uploads/wolvercote-sunday-market-1600x900.webp
GEO:51.7837991;-1.2931625
X-APPLE-STRUCTURED-LOCATION;VALUE=URI;X-ADDRESS=The White Hart Wolvercote 126 Godstow Road Oxford Oxfordshire OX2 8PQ;X-APPLE-RADIUS=500;X-TITLE=126 Godstow Road:geo:-1.2931625,51.7837991
END:VEVENT
BEGIN:VEVENT
DTSTART;TZID=Europe/London:20260419T100000
DTEND;TZID=Europe/London:20260419T140000
DTSTAMP:20260423T023425
CREATED:20220909T120824Z
LAST-MODIFIED:20240116T170731Z
UID:10007420-1776592800-1776607200@theoxfordmagazine.com
SUMMARY:South Oxford Farmers and Community Market
DESCRIPTION:South Oxford Farmers and Community Market\n\n\n\n\n\n\n\n\nAbout the South Oxford Farmers and Community Market\n\n\n\nThe South Oxford Farmers and Community Market is a weekly market selling local\, seasonal food and non-food goods. \n\n\n\n‘Local’ means produced within a 30-mile radius of Oxford and ‘produced’ means containing a significant quantity of local ingredients and labour although locality rules do not necessarily apply to ethical enterprises such as Fairtrade or similar organisations. \n\n\n\nThe market also supports the resale of locally-sourced second-hand products such as books and clothing. \n\n\n\nThe market is held every Sunday from 10.00am to noon in the courtyard of the South Oxford Community Centre on Lake Street. \n\n\n\nWeekly/regular vendors include: \n\n\n\n\nNatural Bread Company\n\n\n\nClays Organic Vegetables\n\n\n\nBrill Organic Vegetables\n\n\n\nEadles of Beckley\n\n\n\nSofacoma Wholefoods\n\n\n\nCelia’s Bakery\n\n\n\nFAI Eggs\n\n\n\nRaffaele Pepe\n\n\n\nJericho Coffee Traders\n\n\n\n\nThe South Oxford Farmers and Community Market is an initiative of the Low Carbon South Oxford (LCSO) Community Action Group\, and it is run by a small group of dedicated volunteers – all residents of South Oxford.
URL:https://theoxfordmagazine.com/event/south-oxford-farmers-and-community-market/2026-04-19/
LOCATION:South Oxford Community Centre\, Lake Street\, Oxford\, Oxfordshire\, OX1 4RP
CATEGORIES:Farmers Markets
ATTACH;FMTTYPE=image/jpeg:https://theoxfordmagazine.com/wp-content/uploads/south-oxford-farmers-and-community-market-1600x900.webp
GEO:51.7393714;-1.2556906
X-APPLE-STRUCTURED-LOCATION;VALUE=URI;X-ADDRESS=South Oxford Community Centre Lake Street Oxford Oxfordshire OX1 4RP;X-APPLE-RADIUS=500;X-TITLE=Lake Street:geo:-1.2556906,51.7393714
END:VEVENT
BEGIN:VEVENT
DTSTART;TZID=Europe/London:20260419T100000
DTEND;TZID=Europe/London:20260419T140000
DTSTAMP:20260423T023425
CREATED:20220909T140106Z
LAST-MODIFIED:20250906T004943Z
UID:10007157-1776592800-1776607200@theoxfordmagazine.com
SUMMARY:Summertown Farmers Market
DESCRIPTION:Summertown Farmers Market\, Oxford\n\n\n\n\n\n\n\n\nAbout the Summertown Farmers Market\n\n\n\nSummertown Farmers Market is a community market that aims to bring new generation farmers market to the high street. \n\n\n\nThe market hosts a wide range of fresh local and organic producers and street food vendors and a few non-food treats traders. \n\n\n\nThe market is one of two in the North Oxford area\, and it runs outside Summertown’s shopping parade. It is not operated for profit\, but rather it is operated to serve the community of Oxford. \n\n\n\nThe market is open every Sunday from 10.00am to 2.00pm.
URL:https://theoxfordmagazine.com/event/summertown-farmers-market/2026-04-19/
LOCATION:Summertown Shopping Parade\, Banbury Road\, Oxford\, Oxfordshire\, OX2 7DY
CATEGORIES:Farmers Markets
ATTACH;FMTTYPE=image/jpeg:https://theoxfordmagazine.com/wp-content/uploads/summertown-farmers-market-oxford-1920x1080.webp
GEO:51.7778921;-1.2652376
X-APPLE-STRUCTURED-LOCATION;VALUE=URI;X-ADDRESS=Summertown Shopping Parade Banbury Road Oxford Oxfordshire OX2 7DY;X-APPLE-RADIUS=500;X-TITLE=Banbury Road:geo:-1.2652376,51.7778921
END:VEVENT
BEGIN:VEVENT
DTSTART;TZID=Europe/London:20260419T100000
DTEND;TZID=Europe/London:20260419T170000
DTSTAMP:20260423T023425
CREATED:20260403T034630Z
LAST-MODIFIED:20260403T034637Z
UID:10012327-1776592800-1776618000@theoxfordmagazine.com
SUMMARY:Japfest 2026
DESCRIPTION:Japfest 2026\n\n\n\n\n\n\n\n\nAbout Japfest 2026\n\n\n\nA spectacular spring day out is heading to Silverstone on Sunday 19 April as Japfest- Europe’s biggest Japanese car show celebrates its 10th anniversary with an action-packed event for all ages. \n\n\n\nAttracting more than 25\,000 visitors each year\, Japfest transforms the famous F1 circuit into a vibrant festival of cars\, colour and live entertainment.  \n\n\n\nWhile it’s a must-visit for car enthusiasts\, organisers have made sure the event’s wide appeal makes it just as enjoyable for families and first-time visitors\, making locals the envy of fans travelling from across the world to attend. \n\n\n\nThere’s plenty of jaw-dropping action from the comfort of your grandstand seat\, with high-octane live displays and demos across the day.  \n\n\n\nOne of the biggest highlights is the live drifting display\, where the UK’s most skilled drivers test their talent and cars to the limit in a spectacular competition of precision and power\, before headliner and fan favourite Steve ‘Baggsy’ Biagioni\, tears up the circuit with tyre-shredding runs\, outrageous car control\, and a masterclass in sideways style. \n\n\n\n\n			\n				\n			\n		Japfest 2026\n\n\n\nWith unique driving opportunities on the famous Silverstone F1 circuit\, any secret Lewis Hamiltons in the family will thrill at the chance to buckle up and ride shotgun in a dedicated ‘Drift Taxi’\, experiencing first-hand the thrills and skills of sideways speed. \n\n\n\nAway from the track\, explore thousands of eye-catching cars on display\, from colourful custom builds to rare and classic models\, including ‘The Great Unveiling’ of carefully-guarded new builds.  \n\n\n\nWith friendly club stands and demonstrators\, a huge retail village\, plus plenty of food\, drink and relaxation areas\, Silverstone’s excellent access and facilities ensure a comfortable visit\, whatever the weather. \n\n\n\n\n\n\n\nTickets\n\n\n\n\n\n\n\nPlease see important booking information below. \n\n\n\n\n\n\n\nBooking information\n\n\n\nTicket prices: \n\n\n\nAdvance online day ticket prices: \n\n\n\nAdult – £32.00 (£45.00 on the gate) \n\n\n\nChild (aged 5-15) – £5.00 \n\n\n\nVIP upgrade – £60.00 \n\n\n\nParking pass – £10.0 \n\n\n\nAdvance tickets are subject to booking fee. \n\n\n\nDates & times: \n\n\n\nSunday 19 April 2026 at 10.00am \n\n\n\nRunning time: \n\n\n\n7 hours \n\n\n\nGood to know: \n\n\n\n\nOwn food and drink permitted (no glass bottles).\n\n\n\nAssistance dogs only. \n\n\n\nNo onsite cashpoint.
URL:https://theoxfordmagazine.com/event/japfest-2026/
LOCATION:Silverstone Circuit\, Northampton\, Silverstone Circuit\, Towcester\, Northamptonshire\, NN12 8TN\, United Kingdom
CATEGORIES:Festivals & Fairs
ATTACH;FMTTYPE=image/jpeg:https://theoxfordmagazine.com/wp-content/uploads/Japfest-2026-returns-to-Silverstone-Circuit-this-spring.webp
GEO:52.0772102;-1.022451
X-APPLE-STRUCTURED-LOCATION;VALUE=URI;X-ADDRESS=Silverstone Circuit Northampton Silverstone Circuit Towcester Northamptonshire NN12 8TN United Kingdom;X-APPLE-RADIUS=500;X-TITLE=Silverstone Circuit:geo:-1.022451,52.0772102
END:VEVENT
BEGIN:VEVENT
DTSTART;TZID=Europe/London:20260419T140000
DTEND;TZID=Europe/London:20260419T160000
DTSTAMP:20260423T023425
CREATED:20260222T151506Z
LAST-MODIFIED:20260327T120845Z
UID:10011627-1776607200-1776614400@theoxfordmagazine.com
SUMMARY:Bear Grylls: Never Give Up
DESCRIPTION:Bear Grylls: Never Give Up\n\n\n\n\n\n\n\n\nAbout Bear Grylls: Never Give Up\n\n\n\nJoin globally renowned adventurer\, Chief Scout to millions of young people\, TV host and No.1 bestselling author Bear Grylls for an unforgettable evening of stories\, survival\, and inspiration – a fun\, thrilling\, and family-friendly live show for adventurers of all ages. \n\n\n\nBear is best known for pushing the limits of human endurance – but he’s also spent his life helping young people and families build courage\, resilience\, and a love of the wild. From his adventures as a young soldier to becoming Chief Scout\, Bear has dedicated himself to inspiring the next generation to explore\, grow\, and never give up. \n\n\n\nThis uplifting show will take audiences behind the scenes of Bear’s incredible life. From hosting hit TV series like You vs. Wild\, Man vs. Wild and Celebrity Bear Hunt\, to writing adventure books for children\, and sharing survival tips with some of the world’s most recognisable figures – including Barack Obama in the Alaskan wilderness! \n\n\n\nExpect never-before-seen footage\, gripping stories\, and amazing images from his biggest adventures. Plus heartwarming tales of perseverance\, courage\, and kindness\, including his dramatic recovery from a near-fatal parachuting accident and the challenges he’s faced in the wild. \n\n\n\nPerfect for families\, scout groups\, and young explorers\, this high-energy live event will inspire everyone to face their fears\, stay true to their values\, and above all to Never Give Up. \n\n\n\n\n\n\n\nTickets\n\n\n\n\n\n\n\nPlease see important booking information below. \n\n\n\n\n\n\n\nBooking information\n\n\n\nTicket prices: \n\n\n\nFrom £41.00 \n\n\n\nTickets are subject to a transaction fee of £3.95 \n\n\n\nDates & times: \n\n\n\nSunday 19 April 2026 at 2.00pm \n\n\n\nRunning time: \n\n\n\n1 hour 50 minutes\, including an interval \n\n\n\nLocation: \n\n\n\nMain Auditorium \n\n\n\nAge guidance: \n\n\n\n8+ \n\n\n\n\n\n\n\n\n\nAbout Aylesbury Waterside Theatre\n\n\n\n\n			\n				\n			\n		\n\n\n\nAylesbury Waterside Theatre is a stunning modern venue at the heart of Buckinghamshire’s cultural scene.  \n\n\n\nOpened in 2010\, its striking wooden interior takes inspiration from the rolling Chiltern Hills\, creating a warm and inviting atmosphere. The theatre regularly hosts top touring productions\, offering audiences the chance to enjoy big-name shows and world-class entertainment without heading to London. \n\n\n\nDesigned for comfort and accessibility\, the venue features step-free access\, wheelchair spaces\, and hearing loop systems. Whether you’re after a hit musical\, stand-up comedy\, or a magical Christmas pantomime\, Waterside Theatre has something for everyone. \n\n\n\nSee important information about Getting there and Access here \n\n\n\nSee other shows at this venue
URL:https://theoxfordmagazine.com/event/bear-grylls-never-give-up/
LOCATION:Aylesbury Waterside Theatre\, Exchange Street\, Aylesbury\, Buckinghamshire\, HP20 1UG
CATEGORIES:Talks
ATTACH;FMTTYPE=image/jpeg:https://theoxfordmagazine.com/wp-content/uploads/BearGrylls_2026-1920X1080_Prod-Shot.webp
GEO:51.7539238;-1.2606005
X-APPLE-STRUCTURED-LOCATION;VALUE=URI;X-ADDRESS=Aylesbury Waterside Theatre Exchange Street Aylesbury Buckinghamshire HP20 1UG;X-APPLE-RADIUS=500;X-TITLE=Exchange Street:geo:-1.2606005,51.7539238
END:VEVENT
END:VCALENDAR