BEGIN:VCALENDAR
VERSION:2.0
PRODID:-//The Oxford Magazine - ECPv6.15.20//NONSGML v1.0//EN
CALSCALE:GREGORIAN
METHOD:PUBLISH
X-ORIGINAL-URL:https://theoxfordmagazine.com
X-WR-CALDESC:Events for The Oxford Magazine
REFRESH-INTERVAL;VALUE=DURATION:PT1H
X-Robots-Tag:noindex
X-PUBLISHED-TTL:PT1H
BEGIN:VTIMEZONE
TZID:Europe/London
BEGIN:DAYLIGHT
TZOFFSETFROM:+0000
TZOFFSETTO:+0100
TZNAME:BST
DTSTART:20240331T010000
END:DAYLIGHT
BEGIN:STANDARD
TZOFFSETFROM:+0100
TZOFFSETTO:+0000
TZNAME:GMT
DTSTART:20241027T010000
END:STANDARD
BEGIN:DAYLIGHT
TZOFFSETFROM:+0000
TZOFFSETTO:+0100
TZNAME:BST
DTSTART:20250330T010000
END:DAYLIGHT
BEGIN:STANDARD
TZOFFSETFROM:+0100
TZOFFSETTO:+0000
TZNAME:GMT
DTSTART:20251026T010000
END:STANDARD
BEGIN:DAYLIGHT
TZOFFSETFROM:+0000
TZOFFSETTO:+0100
TZNAME:BST
DTSTART:20260329T010000
END:DAYLIGHT
BEGIN:STANDARD
TZOFFSETFROM:+0100
TZOFFSETTO:+0000
TZNAME:GMT
DTSTART:20261025T010000
END:STANDARD
BEGIN:DAYLIGHT
TZOFFSETFROM:+0000
TZOFFSETTO:+0100
TZNAME:BST
DTSTART:20270328T010000
END:DAYLIGHT
BEGIN:STANDARD
TZOFFSETFROM:+0100
TZOFFSETTO:+0000
TZNAME:GMT
DTSTART:20271031T010000
END:STANDARD
END:VTIMEZONE
BEGIN:VEVENT
DTSTART;TZID=Europe/London:20250920T000000
DTEND;TZID=Europe/London:20260628T235959
DTSTAMP:20260422T235506
CREATED:20251120T235310Z
LAST-MODIFIED:20251227T160048Z
UID:10011682-1758326400-1782691199@theoxfordmagazine.com
SUMMARY:Pat Suet-Bik Hui & the Three Perfections
DESCRIPTION:Pat Suet-Bik Hui & the Three Perfections\n\n\n\n\n\n\n\n\nAbout Pat Suet-Bik Hui & the Three Perfections\n\n\n\nThis exhibition celebrates the work of Pat Suet-Bik Hui 許雪碧 (b. 1943)\, a US-based Hong Kong artist\, shown alongside others who explore the tradition of the ‘three perfections’ 三絕 – the harmonious blending of poetry\, calligraphy\, and painting. \n\n\n\nFeaturing works by Hui\, her contemporaries\, her teacher Lui Shou-Kwan\, and artists of his generation\, as well as earlier examples from the 17th to 19th centuries\, the exhibition offers a rich context for understanding Hui as both an innovator and a guardian of tradition. \n\n\n\nIn this artistic lineage\, calligraphic brushstrokes carry as much compositional weight as painted forms\, while poetry and imagery combine to create expressions neither can achieve alone. \n\n\n\nHui’s contemporary approach merges abstract and semi-abstract ink and colour washes with understated calligraphy\, inscribing poems that reflect on themes including love\, loss\, and the quiet joys of drinking. \n\n\n\nVisitors will find translations of many inscribed poems and guidance on interpreting the interplay of painting\, calligraphy\, and poetry within individual works. \n\n\n\nHui gifted her paintings to art historian Michael Sullivan\, whose collection was bequeathed to the Ashmolean Museum in 2013. \n\n\n\n\n\n\n\nTickets\n\n\n\n\n\n\n\n\n\n\n\nBooking information\n\n\n\nPrice: \n\n\n\nFree \n\n\n\nLocation: \n\n\n\nGallery 11 \n\n\n\n\n\n\n\n\n\n\n\n			\n				\n			\n		Painting with Poem by Xin Qiji\, Pat Suet-Bik Hui & Wucius Wong\, 1987\, ink & colour on paper © Ashmolean Museum\n\n\n\n\n\n\n			\n				\n			\n		Painting with poem by Paul Ka-Yin Kwok\, Pat Suet-Bik Hui & Paul Ka-Yin Kwok\, 1999\, ink colour on paper © Ashmolean Museum\n\n\n\n\n\n\n			\n				\n			\n		Painting with poem by Nara Singde\, Pat Suet-Bik Hui\, 1991\, ink & colour on paper © Ashmolean Museum
URL:https://theoxfordmagazine.com/event/pat-suet-bik-hui-the-three-perfections/
LOCATION:Ashmolean Museum\, 35 Beaumont Street\, Oxford\, Oxfordshire\, OX1 2PH
CATEGORIES:Exhibitions
ATTACH;FMTTYPE=image/jpeg:https://theoxfordmagazine.com/wp-content/uploads/pat-suet-bik-hui-01-1600x900-1.webp
GEO:51.7550824;-1.2611489
X-APPLE-STRUCTURED-LOCATION;VALUE=URI;X-ADDRESS=Ashmolean Museum 35 Beaumont Street Oxford Oxfordshire OX1 2PH;X-APPLE-RADIUS=500;X-TITLE=35 Beaumont Street:geo:-1.2611489,51.7550824
END:VEVENT
BEGIN:VEVENT
DTSTART;TZID=Europe/London:20260319T000000
DTEND;TZID=Europe/London:20260816T235959
DTSTAMP:20260422T235506
CREATED:20251117T212630Z
LAST-MODIFIED:20260318T060036Z
UID:10011663-1773878400-1786924799@theoxfordmagazine.com
SUMMARY:In Bloom: How Plants Changed Our World
DESCRIPTION:About In Bloom: How Plants Changed Our World\n\n\n\nWhat do we really know about the plants and flowers in our gardens and window boxes? Beyond their beauty\, many hold hidden histories – tales of exploration\, obsession\, and knowledge. \n\n\n\nIn Bloom: How Plants Changed Our World is a major new exhibition that takes visitors on a journey from Oxford to the farthest corners of the globe\, uncovering the fascinating stories behind some of Britain’s most beloved blooms\, from roses and tulips to camellias and peonies. \n\n\n\nFeaturing over 100 artworks and objects – including drawings\, paintings\, rare prints\, and ceramics – the exhibition explores our changing relationship with the natural world. \n\n\n\nFrom the curiosity and ingenuity of early plant explorers to the global networks that shaped trade\, In Bloom reveals how the pursuit of exotic plants transformed landscapes\, economies\, and cultures\, leaving a legacy that continues to influence our world today. \n\n\n\n\n\n\n\nTickets\n\n\n\n\n\n\n\nTickets for this major exhibition will be available to book later in the year. \n\n\n\n\n\n\n\nBooking information\n\n\n\nTickets for In Bloom: How Plants Changed Our World will be available to book later in the year.  \n\n\n\nVisitors who are Ashmolean Members can enjoy unlimited free access to this major exhibition\, along with exclusive benefits including Members’ Exhibition Previews\, special events\, and discounts in the museum shop\, café\, and restaurant. \n\n\n\nAshmolean Members are invited to the Members’ Exhibition Preview on 18 March 2026\, offering an early opportunity to explore the exhibition before it opens to the public.  \n\n\n\nMembership also includes a twice-yearly magazine and helps support the museum’s work and programmes. For those considering joining\, becoming a Member ensures free access to all exhibitions and a range of exclusive experiences throughout the year. \n\n\n\n\n\n\n\n\n\nGallery\n\n\n\n\n\n			\n				\n			\n		A Vase of Flowers\, Simon Verelst\, c. 1669–1675\, oil on canvas\, © Ashmolean Museum \n\n\n\n\n			\n				\n			\n		John Tradescant the Younger as a Gardener\, attributed to Thomas de Critz\, 1648–1653\, oil on canvas © Ashmolean Museum \n\n\n\n\n			\n				\n			\n		Nelumbo lutea (yellow lotus)\, herbarium biological drawing\, Mark Catesby\, 1722\, ink on paper © Oxford University Herbaria\, Department of Biology \n\n\n\n\n			\n				\n			\n		Kew Wardian case\, c. 1870\, wood & glass. Courtesy Royal Botanic Gardens\, Kew\n\n\n\n\n			\n				\n			\n		Study of an Oriental poppy\, May Morris\, 1879\, watercolour & some bodycolour over indications in graphite © Ashmolean Museum\n\n\n\n\n			\n				\n			\n		Girl Smelling Orchids\, Sir Lawrence Alma Tadema\, 1879\, oil on panel. Courtesy the Richard Green Gallery\, London \n\n\n\n\n			\n				\n			\n		Pharmacy jar for mithridate\, Lambeth Pottery Factory\, c. 1738\, tin-glazed ceramic © Ashmolean Museum \n\n\n\n\n			\n				\n			\n		Plant model of Hypericum/St John’s Wort (detail)\, Robert Brendel\, c. 1860–1880\, papier mâché & wood © Oxford University Herbaria\, Department of Biology \n\n\n\n\n			\n				\n			\n		Duncan Grant\, Hollyhock\, Charleston\, Kate Friend\, 2019\, C-type print. Courtesy of the artist & Lyndsey Ingram \n\n\n\n\n			\n				\n			\n		‘What Is It In A Name’\, Anahita Norouzi\, 2022\, glass & brass. Courtesy of the artist & Galerie Nicolas Robert
URL:https://theoxfordmagazine.com/event/in-bloom-how-plants-changed-our-world/
LOCATION:Ashmolean Museum\, 35 Beaumont Street\, Oxford\, Oxfordshire\, OX1 2PH
CATEGORIES:Exhibitions
ATTACH;FMTTYPE=image/jpeg:https://theoxfordmagazine.com/wp-content/uploads/in-bloom-ashnomloean-exhibition-01-1920x1080-1-scaled.webp
GEO:51.7550824;-1.2611489
X-APPLE-STRUCTURED-LOCATION;VALUE=URI;X-ADDRESS=Ashmolean Museum 35 Beaumont Street Oxford Oxfordshire OX1 2PH;X-APPLE-RADIUS=500;X-TITLE=35 Beaumont Street:geo:-1.2611489,51.7550824
END:VEVENT
BEGIN:VEVENT
DTSTART;TZID=Europe/London:20260421T000000
DTEND;TZID=Europe/London:20260425T235959
DTSTAMP:20260422T235506
CREATED:20260222T184258Z
LAST-MODIFIED:20260422T033927Z
UID:10011589-1776729600-1777161599@theoxfordmagazine.com
SUMMARY:Murder in the Cathedral
DESCRIPTION:Murder in the Cathedral\n\n\n\n\n\n\n\n\nAbout Murder in the Cathedral\n\n\n\nPresented by Oxford Theatre Guild \n\n\n\nBy T.S. Eliot \n\n\n\n“Saints are not made by accident.” \n\n\n\nA radical priest returns from exile to an uncertain welcome. Women gather by the Cathedral to seek sanctuary from an increasingly dangerous world. The church is in conflict with the state and shadowy forces seek to take matters into their own hands. \n\n\n\nWritten against the backdrop of the rise of fascism in the 1930s\, T.S. Eliot’s powerful retelling of the final days of Thomas Becket is one of the most influential plays of the twentieth century. \n\n\n\nThe resolute Women of Canterbury are at the heart of the performance\, their voices and watchful presence a constant reminder of the human cost of conflict\, forcing us to bear witness to a nation in turmoil. \n\n\n\nFollowing their acclaimed Pygmalion\, Oxford Theatre Guild\, Oxford’s leading amateur theatre company\, returns to The Playhouse with a bold and evocative production of Eliot’s thought-provoking and relevant masterpiece. \n\n\n\n\n\n\n\nTickets\n\n\n\n\n\n\n\nPlease see important booking information below. \n\n\n\n\n\n\n\nBooking information\n\n\n\nTicket prices: \n\n\n\n£15.00 \n\n\n\nA £2.75 booking fee per transaction applies to this event across all channels – website\, phone and in-person bookings at the Box Office. The fee is waived for members\, schools\, groups and access bookers. \n\n\n\nDates & times: \n\n\n\nTuesday 21 to Saturday 25 April 2026 \n\n\n\nTuesday to Saturday at 7.30pm \n\n\n\nSaturday at 2.30pm \n\n\n\nRunning time: \n\n\n\n2 hours 20 minutes\, including an interval \n\n\n\nAge guidance: \n\n\n\n12+ \n\n\n\n\n\n\n\n\n\nAbout Oxford Playhouse\n\n\n\n\n			\n				\n			\n		\n\n\n\nOxford Playhouse and its Burton Taylor Studio present and produce several live performances and feature a rich array of British and international dramas\, family entertainment\, contemporary dance and music\, student and amateur shows\, comedy\, lectures and poetry. \n\n\n\nThe Playhouse not only produces and tours its own theatrical productions\, but it also fosters creativity through its Artists in Residence program and the Playhouse Plays Out series\, which brings unique events to various locations across the county. \n\n\n\nThe theatre’s Participation Team engages over 15\,000 individuals annually\, offering an extensive range of activities\, including post-show discussions\, workshops\, work experience opportunities\, holiday programs\, a youth theatre\, and a company for young performers. \n\n\n\nOxford Playhouse stands dedicated to its mission of being a Playhouse for all\, striving to ignite inspiration and bring about transformative experiences through its commitment to creativity on its stages\, within its community and online. \n\n\n\nDiscover more about Oxford Playhouse\, including travel\, access and venue information.
URL:https://theoxfordmagazine.com/event/murder-in-the-cathedral/
LOCATION:Oxford Playhouse\, Beaumont Street\, Oxford\, Oxfordshire\, OX1 2LW\, United Kingdom
CATEGORIES:Plays
ATTACH;FMTTYPE=image/jpeg:https://theoxfordmagazine.com/wp-content/uploads/Murder-in-the-Cathedral.webp
GEO:51.7550368;-1.2605435
X-APPLE-STRUCTURED-LOCATION;VALUE=URI;X-ADDRESS=Oxford Playhouse Beaumont Street Oxford Oxfordshire OX1 2LW United Kingdom;X-APPLE-RADIUS=500;X-TITLE=Beaumont Street:geo:-1.2605435,51.7550368
END:VEVENT
BEGIN:VEVENT
DTSTART;TZID=Europe/London:20260421T000000
DTEND;TZID=Europe/London:20260502T235959
DTSTAMP:20260422T235506
CREATED:20260222T190329Z
LAST-MODIFIED:20260422T034141Z
UID:10012031-1776729600-1777766399@theoxfordmagazine.com
SUMMARY:Helena Clews: From Seascape to Landscape
DESCRIPTION:Helena Clews: From Seascape to Landscape\n\n\n\n\n\n\n\n\nAbout Helena Clews: From Seascape to Landscape\n\n\n\nHelena’s paintings explore colour\, line and texture\, drawing inspiration from the sea\, light\, and natural beauty of Devon.  \n\n\n\nThis exhibition presents a new collection that brings together the familiar landscapes of Oxfordshire with the dramatic coastline of Devon – returning her work to where her artistic journey first began. \n\n\n\nHelena Clews is a former pupil of St Edward’s School and studied Fine Art at Manchester Metropolitan University. She was awarded the Ken Billany Prize in 2007.  \n\n\n\nShe went on to complete an MA in Fine Art at Central Saint Martins before leaving her North London studio to fulfil a long-held dream of moving to Devon to paint by the sea. Helena has exhibited widely across the UK and her work is held in many private collections. \n\n\n\n\n\n\n\nTickets\n\n\n\n\n\n\n\nPlease see important booking information below. \n\n\n\n\n\n\n\nBooking information\n\n\n\nTicket prices: \n\n\n\nFree entry. No booking required. \n\n\n\nDates & times: \n\n\n\nTuesday 21 April to Saturday 02 May 2026 at 6.00pm \n\n\n\nExhibition Opening: \n\n\n\nTuesday 21 April from 6.00pm to 8.00pm \n\n\n\nPlease join in for drinks to celebrate the opening of this exhibition \n\n\n\nFree event. No booking required \n\n\n\n\n\n\n\n\n\nAbout The North Wall Arts Centre\n\n\n\n\n			\n				\n			\n		\n\n\n\nThe North Wall Arts Centre is an an award-winning theatre\, gallery and performing arts centre located in Summertown\, North Oxford. The facility was opened in 2007\, and offers a fully flexible 200-seat theatre\, a public art gallery\, as well as studios for dance and drama. \n\n\n\nThe centre is owned by St Edward’s School and shared with the city\, and it was created for the benefit of emerging artists across a range of disciplines. The programme of events at The North Wall places emphasis on new and innovative work. \n\n\n\nDiscover more about The North Wall Arts Centre\, including travel\, access and venue information.
URL:https://theoxfordmagazine.com/event/helena-clews-from-seascape-to-landscape/
LOCATION:The North Wall Arts Centre\, South Parade\, Oxford\, OX2 7JN
CATEGORIES:Exhibitions
ATTACH;FMTTYPE=image/jpeg:https://theoxfordmagazine.com/wp-content/uploads/Helena-Clews-From-Seascape-to-Landscape.webp
GEO:51.7781313;-1.2676696
X-APPLE-STRUCTURED-LOCATION;VALUE=URI;X-ADDRESS=The North Wall Arts Centre South Parade Oxford OX2 7JN;X-APPLE-RADIUS=500;X-TITLE=South Parade:geo:-1.2676696,51.7781313
END:VEVENT
BEGIN:VEVENT
DTSTART;TZID=Europe/London:20260422T000000
DTEND;TZID=Europe/London:20260424T235959
DTSTAMP:20260422T235506
CREATED:20260222T195020Z
LAST-MODIFIED:20260422T034157Z
UID:10011590-1776816000-1777075199@theoxfordmagazine.com
SUMMARY:An Adequate Abridgement of Boarding School Life as a Homo
DESCRIPTION:An Adequate Abridgement of Boarding School Life as a Homo\n\n\n\n\n\n\n\n\nAbout An Adequate Abridgement of Boarding School Life as a Homo\n\n\n\nWritten by Ned Blackburn \n\n\n\nMeet Johnny\, 18\, at an all-boys boarding school\, struggling to fit in and in an intense relationship with rugby golden boy\, Harry.  \n\n\n\nIt is life through the lens of a young queer man navigating Grindr\, hyper-masculinity and institutional shame. \n\n\n\n\n\n\n\nTickets\n\n\n\n\n\n\n\nPlease see important booking information below. \n\n\n\n\n\n\n\nBooking information\n\n\n\nTicket prices: \n\n\n\n£12.00 – £14.00 \n\n\n\nDates & times: \n\n\n\nWednesday 22 to Friday 24 April 2026 at 7.30pm \n\n\n\nLocation: \n\n\n\nBurton Taylor Studio \n\n\n\nAge guidance: \n\n\n\n14+ \n\n\n\nContent guidance: \n\n\n\nThis show includes strong language\, scenes of a sexual nature and partial nudity. \n\n\n\n\n\n\n\n\n\nAbout Oxford Playhouse\n\n\n\n\n			\n				\n			\n		\n\n\n\nOxford Playhouse and its Burton Taylor Studio present and produce several live performances and feature a rich array of British and international dramas\, family entertainment\, contemporary dance and music\, student and amateur shows\, comedy\, lectures and poetry. \n\n\n\nThe Playhouse not only produces and tours its own theatrical productions\, but it also fosters creativity through its Artists in Residence program and the Playhouse Plays Out series\, which brings unique events to various locations across the county. \n\n\n\nThe theatre’s Participation Team engages over 15\,000 individuals annually\, offering an extensive range of activities\, including post-show discussions\, workshops\, work experience opportunities\, holiday programs\, a youth theatre\, and a company for young performers. \n\n\n\nOxford Playhouse stands dedicated to its mission of being a Playhouse for all\, striving to ignite inspiration and bring about transformative experiences through its commitment to creativity on its stages\, within its community and online. \n\n\n\nDiscover more about Oxford Playhouse\, including travel\, access and venue information.
URL:https://theoxfordmagazine.com/event/an-adequate-abridgement-of-boarding-school-life-as-a-homo/
LOCATION:Oxford Playhouse\, Beaumont Street\, Oxford\, Oxfordshire\, OX1 2LW\, United Kingdom
CATEGORIES:Plays
ATTACH;FMTTYPE=image/jpeg:https://theoxfordmagazine.com/wp-content/uploads/An-Adequate-Abridgement.webp
GEO:51.7550368;-1.2605435
X-APPLE-STRUCTURED-LOCATION;VALUE=URI;X-ADDRESS=Oxford Playhouse Beaumont Street Oxford Oxfordshire OX1 2LW United Kingdom;X-APPLE-RADIUS=500;X-TITLE=Beaumont Street:geo:-1.2605435,51.7550368
END:VEVENT
BEGIN:VEVENT
DTSTART;TZID=Europe/London:20260422T000000
DTEND;TZID=Europe/London:20260425T235959
DTSTAMP:20260422T235506
CREATED:20260223T170301Z
LAST-MODIFIED:20260422T035231Z
UID:10011986-1776816000-1777161599@theoxfordmagazine.com
SUMMARY:Sweet Charity
DESCRIPTION:Sweet Charity\n\n\n\n\n\n\n\n\nAbout Sweet Charity\n\n\n\nMaidenhead Musical Comedy Society presents… Sweet Charity \n\n\n\nBased on the book by Neil Simon\, Sweet Charity is a Tony Award-winning musical and follows the story of Charity Hope Valentine\, a gullible\, hopeless romantic who has big dreams.  \n\n\n\nTrapped in the tawdry world of the Fan-Dango Ballroom – a taxi-dance-hall\, where the girls are paid per song to dance with men\, but Charity aspires to greater things. One of the most famous shows by legendary director/choreographer Bob Fosse\, every audience is destined to fall in love with Charity’s limitless spirit\, as she lives life “hopefully ever after.” \n\n\n\nSweet Charity features the toe-tapping hits such as ‘Big Spender’\, ‘If My Friends Could See Me Now’ and ‘The Rhythm of Life’. \n\n\n\nWill Charity find true love at last? Find out by buying your tickets today and letting MMCS put a tingle in your fingers and a tingle in your feet! \n\n\n\nThis amateur production of Sweet Charity is presented by arrangement with Concord Theatricals Ltd. on behalf of Tams-Witmark LLC. \n\n\n\nSweet Charity \n\n\n\nBook by Neil Simon \n\n\n\nMusic by Cy Coleman \n\n\n\nLyrics by Dorothy Fields \n\n\n\nBased on an original screenplay by Federico Fellini\, Tullio Pinelli and Ennio Flaiano \n\n\n\n\n\n\n\nTickets\n\n\n\n\n\n\n\nPlease see important booking information below. \n\n\n\n\n\n\n\nBooking information\n\n\n\nTicket prices: \n\n\n\nAdult – £24.75 \n\n\n\nSenior Citizen – £22.75 \n\n\n\nTicket prices include a £1.00 Restoration Levy\, a £1.50 Booking Fee and a 25p Community Fund Levy. \n\n\n\nDates & times: \n\n\n\nWednesday 22 to Saturday 25 April 2026 \n\n\n\nWednesday to Friday at 7.30pm \n\n\n\nSaturday at 7.00pm \n\n\n\nRunning time: \n\n\n\n2 hours 30 minutes \n\n\n\nAge guidance: \n\n\n\n11+ \n\n\n\n\n\n\n\n\n\nAbout Kenton Theatre\n\n\n\n\n			\n				\n			\n		\n\n\n\nSituated in the centre of Henley-on-Thames\, the Kenton Theatre is the fourth-oldest working theatre in the UK and a registered charity. Seating 240\, the theatre today offers a varied programme of comedy\, drama\, music\, talks and more – as well as being available for hire. \n\n\n\nThe theatre is home to annual performances from Henley Amateur Operatic and Drama Society (HAODS)\, Henley Children’s Theatre\, Henley Drama Festival\, Henley Literary Festival\, Henley Players\, Henley Youth Festival\, Mike Hurst\, the National Youth Jazz Orchestra (NYJO)\, Woodley Light Operatic Society\, amongst others. High-profile performers at the Kenton in recent years include Michael McIntyre\, Georgie Fame\, Haley Mills\, Chris Barber\, Dara O’Briain\, Diana Rigg\, Russell Brand\, PP Arnold and Marti Webb. \n\n\n\nThe theatre’s first production\, the farce The School of Reform took place on 07 November 1805. Celebrated performers who have graced the Kenton stage over the last five decades include Celia Johnson\, John Mortimer\, Anthony Newley\, Kate Winslet\, Tom Baker\, Joe Brown\, Diana Dors\, David Essex\, Roy Hudd and Jeremy Irons. \n\n\n\nDiscover more about the Kenton Theatre\, including travel\, access and venue information.
URL:https://theoxfordmagazine.com/event/sweet-charity/
LOCATION:Kenton Theatre\, Henley-on-Thames\, 19 New Street\, Henley-on-Thames\, Oxfordshire\, RG9 2BP
CATEGORIES:Variety
ATTACH;FMTTYPE=image/jpeg:https://theoxfordmagazine.com/wp-content/uploads/Sweet-Charity.webp
GEO:51.5394065;-0.9033617
X-APPLE-STRUCTURED-LOCATION;VALUE=URI;X-ADDRESS=Kenton Theatre Henley-on-Thames 19 New Street Henley-on-Thames Oxfordshire RG9 2BP;X-APPLE-RADIUS=500;X-TITLE=19 New Street:geo:-0.9033617,51.5394065
END:VEVENT
BEGIN:VEVENT
DTSTART;TZID=Europe/London:20260423T080000
DTEND;TZID=Europe/London:20260423T130000
DTSTAMP:20260422T235506
CREATED:20240116T173505Z
LAST-MODIFIED:20250906T003443Z
UID:10011299-1776931200-1776949200@theoxfordmagazine.com
SUMMARY:Henley-on-Thames Farmer’s Market on 4th Thursdays
DESCRIPTION:Henley Farmers Market\, Henly on Thames\, Oxfordshire\n\n\n\n\n\n\n\n\nAbout Henley-on-Thames Farmer’s Market\n\n\n\nThe Henley-on-Thames Farmer’s Market takes place in Henley Market Place on the 2nd Saturday and 4th Thursday of the month from 8.00am to 2.00pm. \n\n\n\nExpect stalls with delicious\, fresh\, locally produced\, seasonal food as well as crafts and non-food items from suppliers in and around the Henley-on-Thames area. \n\n\n\nTraders are producers of their own produce who are actively involved in the production process of the goods for sale. All produce is grown\, reared\, caught\, brewed\, pickled\, baked\, smoked or processed by the producer. \n\n\n\nAdditionally\, stalls are staffed by the producer\, family member or someone who is directly involved in growing\, raising or producing the goods on sale\, or those with a good working knowledge of the production process. \n\n\n\n\n\n\n\nGood to know\n\n\n\nThe Town Council organises several weekend / Continental-style Markets each year\, and the Charter Market is held in Market Place every Thursday (except on the 4th Thursday of the Month when it is replaced by the Farmers Market).
URL:https://theoxfordmagazine.com/event/henley-farmers-market-4th-thursdays/2026-04-23/
LOCATION:Henley-on-Thames Town Centre\, Market Place\, RG9 2AQ\, Henley-on-Thames\, Oxfordshire\, RG9 2AQ
CATEGORIES:Farmers Markets
ATTACH;FMTTYPE=image/jpeg:https://theoxfordmagazine.com/wp-content/uploads/henley-farmers-market-henley-on-thames-oxfordshire-1600x900.webp
GEO:51.5371904;-0.9066122
X-APPLE-STRUCTURED-LOCATION;VALUE=URI;X-ADDRESS=Henley-on-Thames Town Centre Market Place RG9 2AQ Henley-on-Thames Oxfordshire RG9 2AQ;X-APPLE-RADIUS=500;X-TITLE=Market Place\, RG9 2AQ:geo:-0.9066122,51.5371904
END:VEVENT
BEGIN:VEVENT
DTSTART;TZID=Europe/London:20260423T193000
DTEND;TZID=Europe/London:20260423T193000
DTSTAMP:20260422T235506
CREATED:20260301T011206Z
LAST-MODIFIED:20260301T011214Z
UID:10011757-1776972600-1776972600@theoxfordmagazine.com
SUMMARY:Jon Udry is Having a Ball
DESCRIPTION:Jon Udry is Having a Ball\n\n\n\n\n\n\n\n\nAbout Jon Udry is Having a Ball\n\n\n\nThere are jugglers. There are comedians. And there is Jon Udry. \n\n\n\nJon combines the two to such a brilliant effect that his unique performance has his audience roaring with laughter from the entrance to the final curtain. \n\n\n\nFormerly the British Young Juggler Of The Year and New Act of the Year Finalist 2018\, Jon’s skills and stage persona have brought his show onto various television and radio shows\, as well as being a regular on the bill at prestigious festivals like Glastonbury. \n\n\n\nJon travels internationally\, working on a host of luxury cruise lines\, at festivals and events\, and due to his unique comedy style\, his show is also at home on the domestic comedy club circuit. \n\n\n\nJon’s repertoire is not the normal type of specialty act\, instead\, it’s young\, offbeat\, quirky and hugely impressive. His current show\, ‘Jon Udry Punches Gravity in the Face’ is quickly becoming his most successful to date with a host of bookings around the UK\, Europe and beyond. \n\n\n\n\n\n\n\nTickets\n\n\n\n\n\n\n\nPlease see important booking information below. \n\n\n\n\n\n\n\nBooking information\n\n\n\nTicket prices: \n\n\n\nFrom £18.50 \n\n\n\nDates & times: \n\n\n\nThursday 23 April 2026 at 7.30pm \n\n\n\n\n\n\n\n\n\nAbout The Mill Arts Centre\n\n\n\n\n			\n				\n			\n		\n\n\n\nThe Mill Arts Centre is the cultural hub for Banbury and the surrounding area. \n\n\n\nAs the only dedicated arts provision in the area\, it aims to inspire creativity and enrich the lives of the communities by providing a high-quality\, varied artistic\, educational and participatory programme. \n\n\n\nIt plays a significant role in the town’s cultural\, social and economic development by offering the community the chance to engage with and be entertained by several art forms. \n\n\n\nThe Mill Arts Centre offers an exciting live events programme\, including theatre\, dance\, music\, comedy\, film\, workshops and classes. Alongside this\, it runs several community projects and initiatives with partner organisations. \n\n\n\nYou can visit our Café Bar for delicious hot and cold drinks and light refreshments – and while you’re there\, the Gallery is home to a fantastic programme of exhibitions from local artists. \n\n\n\nAlternatively\, if you’re looking for meeting rooms or spaces for hire in Banbury\, our wide range of spaces – including our theatre\, art studio\, dance studio and meeting rooms – are available for hire. \n\n\n\nDiscover more about The Mill Arts Centre\, including travel\, access and venue information.
URL:https://theoxfordmagazine.com/event/jon-udry-is-having-a-ball/
LOCATION:The Mill Arts Centre\, Banbury\, Spiceball Park\, Banbury\, Oxfordshire\, OX16 5QE
CATEGORIES:Variety
ATTACH;FMTTYPE=image/jpeg:https://theoxfordmagazine.com/wp-content/uploads/Jon-Udry-is-Having-a-Ball.webp
GEO:52.0639491;-1.3328105
X-APPLE-STRUCTURED-LOCATION;VALUE=URI;X-ADDRESS=The Mill Arts Centre Banbury Spiceball Park Banbury Oxfordshire OX16 5QE;X-APPLE-RADIUS=500;X-TITLE=Spiceball Park:geo:-1.3328105,52.0639491
END:VEVENT
END:VCALENDAR