BEGIN:VCALENDAR
VERSION:2.0
PRODID:-//The Oxford Magazine - ECPv6.15.20//NONSGML v1.0//EN
CALSCALE:GREGORIAN
METHOD:PUBLISH
X-ORIGINAL-URL:https://theoxfordmagazine.com
X-WR-CALDESC:Events for The Oxford Magazine
REFRESH-INTERVAL;VALUE=DURATION:PT1H
X-Robots-Tag:noindex
X-PUBLISHED-TTL:PT1H
BEGIN:VTIMEZONE
TZID:Europe/London
BEGIN:DAYLIGHT
TZOFFSETFROM:+0000
TZOFFSETTO:+0100
TZNAME:BST
DTSTART:20240331T010000
END:DAYLIGHT
BEGIN:STANDARD
TZOFFSETFROM:+0100
TZOFFSETTO:+0000
TZNAME:GMT
DTSTART:20241027T010000
END:STANDARD
BEGIN:DAYLIGHT
TZOFFSETFROM:+0000
TZOFFSETTO:+0100
TZNAME:BST
DTSTART:20250330T010000
END:DAYLIGHT
BEGIN:STANDARD
TZOFFSETFROM:+0100
TZOFFSETTO:+0000
TZNAME:GMT
DTSTART:20251026T010000
END:STANDARD
BEGIN:DAYLIGHT
TZOFFSETFROM:+0000
TZOFFSETTO:+0100
TZNAME:BST
DTSTART:20260329T010000
END:DAYLIGHT
BEGIN:STANDARD
TZOFFSETFROM:+0100
TZOFFSETTO:+0000
TZNAME:GMT
DTSTART:20261025T010000
END:STANDARD
BEGIN:DAYLIGHT
TZOFFSETFROM:+0000
TZOFFSETTO:+0100
TZNAME:BST
DTSTART:20270328T010000
END:DAYLIGHT
BEGIN:STANDARD
TZOFFSETFROM:+0100
TZOFFSETTO:+0000
TZNAME:GMT
DTSTART:20271031T010000
END:STANDARD
END:VTIMEZONE
BEGIN:VEVENT
DTSTART;TZID=Europe/London:20250920T000000
DTEND;TZID=Europe/London:20260628T235959
DTSTAMP:20260423T131322
CREATED:20251120T235310Z
LAST-MODIFIED:20251227T160048Z
UID:10011682-1758326400-1782691199@theoxfordmagazine.com
SUMMARY:Pat Suet-Bik Hui & the Three Perfections
DESCRIPTION:Pat Suet-Bik Hui & the Three Perfections\n\n\n\n\n\n\n\n\nAbout Pat Suet-Bik Hui & the Three Perfections\n\n\n\nThis exhibition celebrates the work of Pat Suet-Bik Hui 許雪碧 (b. 1943)\, a US-based Hong Kong artist\, shown alongside others who explore the tradition of the ‘three perfections’ 三絕 – the harmonious blending of poetry\, calligraphy\, and painting. \n\n\n\nFeaturing works by Hui\, her contemporaries\, her teacher Lui Shou-Kwan\, and artists of his generation\, as well as earlier examples from the 17th to 19th centuries\, the exhibition offers a rich context for understanding Hui as both an innovator and a guardian of tradition. \n\n\n\nIn this artistic lineage\, calligraphic brushstrokes carry as much compositional weight as painted forms\, while poetry and imagery combine to create expressions neither can achieve alone. \n\n\n\nHui’s contemporary approach merges abstract and semi-abstract ink and colour washes with understated calligraphy\, inscribing poems that reflect on themes including love\, loss\, and the quiet joys of drinking. \n\n\n\nVisitors will find translations of many inscribed poems and guidance on interpreting the interplay of painting\, calligraphy\, and poetry within individual works. \n\n\n\nHui gifted her paintings to art historian Michael Sullivan\, whose collection was bequeathed to the Ashmolean Museum in 2013. \n\n\n\n\n\n\n\nTickets\n\n\n\n\n\n\n\n\n\n\n\nBooking information\n\n\n\nPrice: \n\n\n\nFree \n\n\n\nLocation: \n\n\n\nGallery 11 \n\n\n\n\n\n\n\n\n\n\n\n			\n				\n			\n		Painting with Poem by Xin Qiji\, Pat Suet-Bik Hui & Wucius Wong\, 1987\, ink & colour on paper © Ashmolean Museum\n\n\n\n\n\n\n			\n				\n			\n		Painting with poem by Paul Ka-Yin Kwok\, Pat Suet-Bik Hui & Paul Ka-Yin Kwok\, 1999\, ink colour on paper © Ashmolean Museum\n\n\n\n\n\n\n			\n				\n			\n		Painting with poem by Nara Singde\, Pat Suet-Bik Hui\, 1991\, ink & colour on paper © Ashmolean Museum
URL:https://theoxfordmagazine.com/event/pat-suet-bik-hui-the-three-perfections/
LOCATION:Ashmolean Museum\, 35 Beaumont Street\, Oxford\, Oxfordshire\, OX1 2PH
CATEGORIES:Exhibitions
ATTACH;FMTTYPE=image/jpeg:https://theoxfordmagazine.com/wp-content/uploads/pat-suet-bik-hui-01-1600x900-1.webp
GEO:51.7550824;-1.2611489
X-APPLE-STRUCTURED-LOCATION;VALUE=URI;X-ADDRESS=Ashmolean Museum 35 Beaumont Street Oxford Oxfordshire OX1 2PH;X-APPLE-RADIUS=500;X-TITLE=35 Beaumont Street:geo:-1.2611489,51.7550824
END:VEVENT
BEGIN:VEVENT
DTSTART;TZID=Europe/London:20260319T000000
DTEND;TZID=Europe/London:20260816T235959
DTSTAMP:20260423T131322
CREATED:20251117T212630Z
LAST-MODIFIED:20260318T060036Z
UID:10011663-1773878400-1786924799@theoxfordmagazine.com
SUMMARY:In Bloom: How Plants Changed Our World
DESCRIPTION:About In Bloom: How Plants Changed Our World\n\n\n\nWhat do we really know about the plants and flowers in our gardens and window boxes? Beyond their beauty\, many hold hidden histories – tales of exploration\, obsession\, and knowledge. \n\n\n\nIn Bloom: How Plants Changed Our World is a major new exhibition that takes visitors on a journey from Oxford to the farthest corners of the globe\, uncovering the fascinating stories behind some of Britain’s most beloved blooms\, from roses and tulips to camellias and peonies. \n\n\n\nFeaturing over 100 artworks and objects – including drawings\, paintings\, rare prints\, and ceramics – the exhibition explores our changing relationship with the natural world. \n\n\n\nFrom the curiosity and ingenuity of early plant explorers to the global networks that shaped trade\, In Bloom reveals how the pursuit of exotic plants transformed landscapes\, economies\, and cultures\, leaving a legacy that continues to influence our world today. \n\n\n\n\n\n\n\nTickets\n\n\n\n\n\n\n\nTickets for this major exhibition will be available to book later in the year. \n\n\n\n\n\n\n\nBooking information\n\n\n\nTickets for In Bloom: How Plants Changed Our World will be available to book later in the year.  \n\n\n\nVisitors who are Ashmolean Members can enjoy unlimited free access to this major exhibition\, along with exclusive benefits including Members’ Exhibition Previews\, special events\, and discounts in the museum shop\, café\, and restaurant. \n\n\n\nAshmolean Members are invited to the Members’ Exhibition Preview on 18 March 2026\, offering an early opportunity to explore the exhibition before it opens to the public.  \n\n\n\nMembership also includes a twice-yearly magazine and helps support the museum’s work and programmes. For those considering joining\, becoming a Member ensures free access to all exhibitions and a range of exclusive experiences throughout the year. \n\n\n\n\n\n\n\n\n\nGallery\n\n\n\n\n\n			\n				\n			\n		A Vase of Flowers\, Simon Verelst\, c. 1669–1675\, oil on canvas\, © Ashmolean Museum \n\n\n\n\n			\n				\n			\n		John Tradescant the Younger as a Gardener\, attributed to Thomas de Critz\, 1648–1653\, oil on canvas © Ashmolean Museum \n\n\n\n\n			\n				\n			\n		Nelumbo lutea (yellow lotus)\, herbarium biological drawing\, Mark Catesby\, 1722\, ink on paper © Oxford University Herbaria\, Department of Biology \n\n\n\n\n			\n				\n			\n		Kew Wardian case\, c. 1870\, wood & glass. Courtesy Royal Botanic Gardens\, Kew\n\n\n\n\n			\n				\n			\n		Study of an Oriental poppy\, May Morris\, 1879\, watercolour & some bodycolour over indications in graphite © Ashmolean Museum\n\n\n\n\n			\n				\n			\n		Girl Smelling Orchids\, Sir Lawrence Alma Tadema\, 1879\, oil on panel. Courtesy the Richard Green Gallery\, London \n\n\n\n\n			\n				\n			\n		Pharmacy jar for mithridate\, Lambeth Pottery Factory\, c. 1738\, tin-glazed ceramic © Ashmolean Museum \n\n\n\n\n			\n				\n			\n		Plant model of Hypericum/St John’s Wort (detail)\, Robert Brendel\, c. 1860–1880\, papier mâché & wood © Oxford University Herbaria\, Department of Biology \n\n\n\n\n			\n				\n			\n		Duncan Grant\, Hollyhock\, Charleston\, Kate Friend\, 2019\, C-type print. Courtesy of the artist & Lyndsey Ingram \n\n\n\n\n			\n				\n			\n		‘What Is It In A Name’\, Anahita Norouzi\, 2022\, glass & brass. Courtesy of the artist & Galerie Nicolas Robert
URL:https://theoxfordmagazine.com/event/in-bloom-how-plants-changed-our-world/
LOCATION:Ashmolean Museum\, 35 Beaumont Street\, Oxford\, Oxfordshire\, OX1 2PH
CATEGORIES:Exhibitions
ATTACH;FMTTYPE=image/jpeg:https://theoxfordmagazine.com/wp-content/uploads/in-bloom-ashnomloean-exhibition-01-1920x1080-1-scaled.webp
GEO:51.7550824;-1.2611489
X-APPLE-STRUCTURED-LOCATION;VALUE=URI;X-ADDRESS=Ashmolean Museum 35 Beaumont Street Oxford Oxfordshire OX1 2PH;X-APPLE-RADIUS=500;X-TITLE=35 Beaumont Street:geo:-1.2611489,51.7550824
END:VEVENT
BEGIN:VEVENT
DTSTART;TZID=Europe/London:20260501T000000
DTEND;TZID=Europe/London:20260503T235959
DTSTAMP:20260423T131322
CREATED:20260412T051707Z
LAST-MODIFIED:20260413T051649Z
UID:10011628-1777593600-1777852799@theoxfordmagazine.com
SUMMARY:The Enormous Crocodile The Musical
DESCRIPTION:The Enormous Crocodile The Musical\n\n\n\n\n\n\n\n\nAbout The Enormous Crocodile The Musical\n\n\n\n“For my lunch today\, I would like… a nice juicy little child!” \n\n\n\nHe’s greedy\, he’s grumptious\, he’s horrid! \n\n\n\n\n			\n				\n			\n		The Enormous Crocodile The Musical\n\n\n\nThe Enormous Crocodile is weaving his way through the jungle to Aylesbury in search of delicious little fingers and squidgy podgy knees… Only the other jungle creatures can foil his secret plans and clever tricks\, but they’re going to have to find a large amount of courage to stop this greedy brute. \n\n\n\nThis mischievous musical\, based on Roald Dahl’s snappy book\, has toe-tapping tunes by Ahmed Abdullahi Gallab\, a rib-tickling book and lyrics by Suhayla El-Bushra\, and additional music and lyrics by Tom Brady.  \n\n\n\nDeveloped and directed by Emily Lim\, it features a menagerie of puppets by co-director and puppetry designer Toby Olié\, with set and costume design by Fly Davis and puppetry co-designed and supervised by Daisy Beattie. \n\n\n\nSnap up your tickets today for this wickedly funny musical adventure\, perfect for the whole family! \n\n\n\n\n\n\n\nWhat the critics say\n\n\n\n\n“The show’s razzle-dazzle energy is contagious\, and music by Ahmed Abdullahi Gallab soars.” ★★★★★ \n\n\n\nHam & High \n\n\n\n\n\n“Wild\, whimsical\, and wonderfully wacky.” ★★★★★ \n\n\n\nLondon Theatre Reviews \n\n\n\n\n\n“A Snappy\, funny\, riotous children’s musical to really sink your teeth into.” ★★★★★ \n\n\n\nTheatre & Tonic \n\n\n\n\n\n“Rapturously received.” ★★★★ \n\n\n\nWest End Best Friend \n\n\n\n\n\n“Magical” ★★★★ \n\n\n\nThe Stage \n\n\n\n\n\n\n\n\nWatch the trailer\n\n\n\n\n\n\n\n\n\n\n\n\n\nTickets\n\n\n\n\n\n\n\nPlease see important booking information below. \n\n\n\n\n\n\n\nBooking information\n\n\n\nTicket prices: \n\n\n\nFrom £18.95 \n\n\n\nTickets are subject to a transaction fee of £3.95 \n\n\n\nDates & times: \n\n\n\nFriday 01 to Sunday 03 May 2026 \n\n\n\nFriday at 10.30am and 2.00pm \n\n\n\nSaturday and Sunday at 11.00am and 2.00pm \n\n\n\nRunning time: \n\n\n\n1 hour with no interval \n\n\n\nLocation: \n\n\n\nMain Auditorium \n\n\n\nAge guidance: \n\n\n\n3+ \n\n\n\n\n\n\n\n\n\nAbout Aylesbury Waterside Theatre\n\n\n\n\n			\n				\n			\n		\n\n\n\nAylesbury Waterside Theatre is a stunning modern venue at the heart of Buckinghamshire’s cultural scene.  \n\n\n\nOpened in 2010\, its striking wooden interior takes inspiration from the rolling Chiltern Hills\, creating a warm and inviting atmosphere. The theatre regularly hosts top touring productions\, offering audiences the chance to enjoy big-name shows and world-class entertainment without heading to London. \n\n\n\nDesigned for comfort and accessibility\, the venue features step-free access\, wheelchair spaces\, and hearing loop systems. Whether you’re after a hit musical\, stand-up comedy\, or a magical Christmas pantomime\, Waterside Theatre has something for everyone. \n\n\n\nSee important information about Getting there and Access here \n\n\n\nSee other shows at this venue
URL:https://theoxfordmagazine.com/event/the-enormous-crocodile-the-musical/
LOCATION:Aylesbury Waterside Theatre\, Exchange Street\, Aylesbury\, Buckinghamshire\, HP20 1UG
CATEGORIES:Musicals
ATTACH;FMTTYPE=image/png:https://theoxfordmagazine.com/wp-content/uploads/The-Enormous-Crocodile-The-Musical.webp
GEO:51.7539238;-1.2606005
X-APPLE-STRUCTURED-LOCATION;VALUE=URI;X-ADDRESS=Aylesbury Waterside Theatre Exchange Street Aylesbury Buckinghamshire HP20 1UG;X-APPLE-RADIUS=500;X-TITLE=Exchange Street:geo:-1.2606005,51.7539238
END:VEVENT
BEGIN:VEVENT
DTSTART;TZID=Europe/London:20260502T000000
DTEND;TZID=Europe/London:20260504T235959
DTSTAMP:20260423T131322
CREATED:20220429T090000Z
LAST-MODIFIED:20251117T002119Z
UID:10004607-1777680000-1777939199@theoxfordmagazine.com
SUMMARY:Jousting tournament at Blenheim Palace
DESCRIPTION:Jousting Tournament at Blenheim Palace\n\n\n\n\n\n\n\n\nAbout the Jousting Tournament at Blenheim Palace\n\n\n\nThe clash of lances\, the thunder of hooves\, and the roar of the crowd – the Jousting Tournament returns to Blenheim Palace in spring 2026\, bringing medieval pageantry to life on the stunning South Lawn.  \n\n\n\nThis electrifying spectacle transports visitors back to the Middle Ages\, where gallant knights battle for honour in a dramatic display of skill\, bravery and showmanship. \n\n\n\nAcross the bank holiday weekend of 04 to 06 May 2026\, visitors can witness high-octane jousting from the renowned Knights of Middle England\, complete with dazzling costumes\, authentic armour\, and choreographed stunts. The event also features falconry displays and additional family-friendly attractions\, making it a perfect day out for history enthusiasts and families alike. \n\n\n\nSet against the breathtaking backdrop of Blenheim Palace – a UNESCO World Heritage Site – the tournament combines spectacular equestrian feats with immersive storytelling and medieval pageantry to create a truly unforgettable experience. \n\n\n\nHighlights \n\n\n\n\nJousting by the Knights of Middle England – Action-packed displays featuring traditional armour\, stunt riding and competitive tilts.\n\n\n\nFalconry demonstrations – Birds of prey in flight\, showcasing historic hunting techniques.\n\n\n\nFamily-friendly entertainment – Medieval activities\, displays and themed attractions on the South Lawn.\n\n\n\nStunning setting – The grandeur of Blenheim Palace provides the perfect backdrop for this timeless spectacle.\n\n\n\n\n\n\n\n\nTickets\n\n\n\n\n\n\n\nPlease see important booking information below. \n\n\n\n\n\n\n\nBooking information\n\n\n\nTickets required:Entrance is free with with an Annual or Palace and Play Pass. \n\n\n\nLocation: \n\n\n\nThe South Lawn \n\n\n\nTimings:10.00am to 5.00pm \n\n\n\nAccessibility: \n\n\n\nDisabled Parking is available near the event site. \n\n\n\nDogs: \n\n\n\nNo dogs allowed \n\n\n\n\n\n\n\n\nGallery
URL:https://theoxfordmagazine.com/event/jousting-tournament-at-blenheim-palace/
LOCATION:Blenheim Palace\, Woodstock\, Blenheim Park\, Woodstock\, Oxfordshire\, OX20 1PP
CATEGORIES:Variety
ATTACH;FMTTYPE=image/jpeg:https://theoxfordmagazine.com/wp-content/uploads/jousting-tournament-at-blenheim-palace-02-1920x1080-1.webp
GEO:51.8463865;-1.3622664
X-APPLE-STRUCTURED-LOCATION;VALUE=URI;X-ADDRESS=Blenheim Palace Woodstock Blenheim Park Woodstock Oxfordshire OX20 1PP;X-APPLE-RADIUS=500;X-TITLE=Blenheim Park:geo:-1.3622664,51.8463865
END:VEVENT
BEGIN:VEVENT
DTSTART;TZID=Europe/London:20260502T000000
DTEND;TZID=Europe/London:20260525T235959
DTSTAMP:20260423T131322
CREATED:20251128T110959Z
LAST-MODIFIED:20251128T145023Z
UID:10004438-1777680000-1779753599@theoxfordmagazine.com
SUMMARY:Oxfordshire Artweeks Festival 2026
DESCRIPTION:Various venues across Oxfordshire\n\n\n\n\n\n\n\n\n			\n				\n			\n		\n\n\n\n\n\n\n\n\nAbout Oxfordshire Artweeks Festival 2026\n\n\n\nCelebrating the county’s creativity \n\n\n\nThe Oxfordshire Artweeks Festival returns in 2026\, running from Saturday 02 May to Sunday 25 May\, offering three weeks of visual arts\, craft\, and creative exploration across the county. \n\n\n\nAs the UK’s oldest and largest artist open studios and pop-up exhibition event\, the festival showcases the remarkable talent of hundreds of local artists\, makers and designers. \n\n\n\nIn 2026\, the festival is split into three overlapping sections:  \n\n\n\n\nSouth Oxfordshire from 02 to 10 May\, \n\n\n\nNorth & West Oxfordshire from 09 to 17 May\, and \n\n\n\nOxford City from 16 to 25 May. \n\n\n\n\nWhether you’re wandering through historic streets\, ancient churches\, or glorious gardens\, Artweeks provides a chance to experience creativity in every corner of the county. \n\n\n\nExplore studios\, galleries and gardens \n\n\n\nArtweeks invites visitors to step into artists’ studios\, pop-up galleries\, medieval tithe barns\, private homes and sprawling gardens. You can see painting\, photography\, textiles\, sculpture\, ceramics\, glass\, mosaics\, jewellery\, woodworking\, and contemporary installations. Many artists offer demonstrations or encourage visitors to try their hand\, providing a rare opportunity to engage directly with the creative process. \n\n\n\n\n\n\n\nAbout Oxfordshire Artweeks\n\n\n\nOxfordshire Artweeks is the UK’s oldest and largest artist open studios and pop-up exhibition event. \n\n\n\nThe Artweeks festival is Oxfordshire’s largest visual arts festival and the UK’s oldest and biggest Open Studios event. It is a three-week not-for-profit celebration in May each year of the county’s artistic and creative talent encompassing the visual arts in their broadest sense. \n\n\n\nUsually\, around 1\,500 artists open the doors to their homes and studios or participate in pop-up exhibitions and welcome the public to see their creations and watch them work. Over 100\,000 people visit Artweeks exhibitions each year\, and a million pounds of art changes hands. \n\n\n\nIn previous years\, visitors have been able to immerse themselves in a giant wild-flower meadow of paint at Oxford’s North Wall\, marvel at shimmering glass meteorites in Kidlington or take a trip into the past with jewellery inspired by archaeology or the stunning mosaics by Becky Paton. \n\n\n\nVisitors could see traditional blacksmithing in Watlington and the Cotswolds\, take an outdoor art trail through Chipping Norton and wander through a stunning five-acre garden in Kingham near Chipping Norton populated with hundreds of sculptures. \n\n\n\nIn Burford\, there were extraordinary hand-sculpted wooden tables to discover\, each like a miniature tree. And in Shipton-under-Wychwood\, animal artist Nic Vickery set up her 1968 caravan studio ‘Gertie’ at a working metalwork studio in nearby Asthall\, where a metal forest grows! \n\n\n\nYou’ll find full details for Oxfordshire Artweeks Festival on the festival website. \n\n\n\n\n\n\n\nTickets\n\n\n\n\n\n\n\nPlease see important ticketing information below. \n\n\n\n\n\n\n\nTicketing information\n\n\n\nAll venues are drop-in and are generally open between 11.00am and 6.00pm. However\, this varies\, so please confirm the times for individual venues before travelling.
URL:https://theoxfordmagazine.com/event/oxfordshire-artweeks-festival/
LOCATION:Oxfordshire
CATEGORIES:Exhibitions
ATTACH;FMTTYPE=image/jpeg:https://theoxfordmagazine.com/wp-content/uploads/oxfordshire-artweeks-festival-2019-1920x1080.webp
END:VEVENT
BEGIN:VEVENT
DTSTART;TZID=Europe/London:20260503T100000
DTEND;TZID=Europe/London:20260503T120000
DTSTAMP:20260423T131322
CREATED:20220909T134508Z
LAST-MODIFIED:20250906T012139Z
UID:10008969-1777802400-1777809600@theoxfordmagazine.com
SUMMARY:Wolvercote Community Market
DESCRIPTION:Wolvercote Community Market\n\n\n\n\n\n\n\n\nAbout Wolvercote Community Market\n\n\n\nEstablished in 2002\, Wolvercote Community Market is the longest running Farmers’ Market in Oxford\, and one of three in the North Oxford area. The market aims to provide the community with locally-produced great tasting food. \n\n\n\nThe Sunday market serves the community and visitors by providing fresh\, affordable and ethically sourced food as well as a place to meet\, eat and socialise with friends and neighbours. It also provides a free marketplace for local producers and crafts people. \n\n\n\nRegular stallholders bring fresh fruit and veg\, locally reared meat\, sustainably sourced fish\, artisan bread\, cheese and milk. Other traders produce fantastic cakes\, jams\, chutneys\, pasta\, chocolates and even plants and soaps. \n\n\n\nThe market has an amazing range of freshly made dishes from diverse food regions – Japanese\, Middle-Eastern\, Asian\, and the Mediterranean. There’s also a cafe that serves coffee\, tea\, cakes\, and a ‘Full Wolvercote’ breakfast. \n\n\n\nThe market is open every Sunday from 10.00am to noon at The White Hart Community Pub in Godstow Road\, Lower Wolvercote. \n\n\n\nThere is a Repair Café and bike clinic on the 2nd Sunday of each monthBring along your broken small electrical item\, and a trained volunteer will try to fix it for you and save it from the landfill. They also have volunteer mechanics to provide tune-ups and repairs\, and to offer advice to get your cycles rolling smoothly. \n\n\n\nIf you’re arriving by bicycle\, there are plenty of bike racks and a regular bike.
URL:https://theoxfordmagazine.com/event/wolvercote-community-market/2026-05-03/
LOCATION:The White Hart Wolvercote\, 126 Godstow Road\, Oxford\, Oxfordshire\, OX2 8PQ
CATEGORIES:Farmers Markets
ATTACH;FMTTYPE=image/jpeg:https://theoxfordmagazine.com/wp-content/uploads/wolvercote-sunday-market-1600x900.webp
GEO:51.7837991;-1.2931625
X-APPLE-STRUCTURED-LOCATION;VALUE=URI;X-ADDRESS=The White Hart Wolvercote 126 Godstow Road Oxford Oxfordshire OX2 8PQ;X-APPLE-RADIUS=500;X-TITLE=126 Godstow Road:geo:-1.2931625,51.7837991
END:VEVENT
BEGIN:VEVENT
DTSTART;TZID=Europe/London:20260503T100000
DTEND;TZID=Europe/London:20260503T140000
DTSTAMP:20260423T131322
CREATED:20220909T120824Z
LAST-MODIFIED:20240116T170731Z
UID:10007422-1777802400-1777816800@theoxfordmagazine.com
SUMMARY:South Oxford Farmers and Community Market
DESCRIPTION:South Oxford Farmers and Community Market\n\n\n\n\n\n\n\n\nAbout the South Oxford Farmers and Community Market\n\n\n\nThe South Oxford Farmers and Community Market is a weekly market selling local\, seasonal food and non-food goods. \n\n\n\n‘Local’ means produced within a 30-mile radius of Oxford and ‘produced’ means containing a significant quantity of local ingredients and labour although locality rules do not necessarily apply to ethical enterprises such as Fairtrade or similar organisations. \n\n\n\nThe market also supports the resale of locally-sourced second-hand products such as books and clothing. \n\n\n\nThe market is held every Sunday from 10.00am to noon in the courtyard of the South Oxford Community Centre on Lake Street. \n\n\n\nWeekly/regular vendors include: \n\n\n\n\nNatural Bread Company\n\n\n\nClays Organic Vegetables\n\n\n\nBrill Organic Vegetables\n\n\n\nEadles of Beckley\n\n\n\nSofacoma Wholefoods\n\n\n\nCelia’s Bakery\n\n\n\nFAI Eggs\n\n\n\nRaffaele Pepe\n\n\n\nJericho Coffee Traders\n\n\n\n\nThe South Oxford Farmers and Community Market is an initiative of the Low Carbon South Oxford (LCSO) Community Action Group\, and it is run by a small group of dedicated volunteers – all residents of South Oxford.
URL:https://theoxfordmagazine.com/event/south-oxford-farmers-and-community-market/2026-05-03/
LOCATION:South Oxford Community Centre\, Lake Street\, Oxford\, Oxfordshire\, OX1 4RP
CATEGORIES:Farmers Markets
ATTACH;FMTTYPE=image/jpeg:https://theoxfordmagazine.com/wp-content/uploads/south-oxford-farmers-and-community-market-1600x900.webp
GEO:51.7393714;-1.2556906
X-APPLE-STRUCTURED-LOCATION;VALUE=URI;X-ADDRESS=South Oxford Community Centre Lake Street Oxford Oxfordshire OX1 4RP;X-APPLE-RADIUS=500;X-TITLE=Lake Street:geo:-1.2556906,51.7393714
END:VEVENT
BEGIN:VEVENT
DTSTART;TZID=Europe/London:20260503T100000
DTEND;TZID=Europe/London:20260503T140000
DTSTAMP:20260423T131322
CREATED:20220909T140106Z
LAST-MODIFIED:20250906T004943Z
UID:10007159-1777802400-1777816800@theoxfordmagazine.com
SUMMARY:Summertown Farmers Market
DESCRIPTION:Summertown Farmers Market\, Oxford\n\n\n\n\n\n\n\n\nAbout the Summertown Farmers Market\n\n\n\nSummertown Farmers Market is a community market that aims to bring new generation farmers market to the high street. \n\n\n\nThe market hosts a wide range of fresh local and organic producers and street food vendors and a few non-food treats traders. \n\n\n\nThe market is one of two in the North Oxford area\, and it runs outside Summertown’s shopping parade. It is not operated for profit\, but rather it is operated to serve the community of Oxford. \n\n\n\nThe market is open every Sunday from 10.00am to 2.00pm.
URL:https://theoxfordmagazine.com/event/summertown-farmers-market/2026-05-03/
LOCATION:Summertown Shopping Parade\, Banbury Road\, Oxford\, Oxfordshire\, OX2 7DY
CATEGORIES:Farmers Markets
ATTACH;FMTTYPE=image/jpeg:https://theoxfordmagazine.com/wp-content/uploads/summertown-farmers-market-oxford-1920x1080.webp
GEO:51.7778921;-1.2652376
X-APPLE-STRUCTURED-LOCATION;VALUE=URI;X-ADDRESS=Summertown Shopping Parade Banbury Road Oxford Oxfordshire OX2 7DY;X-APPLE-RADIUS=500;X-TITLE=Banbury Road:geo:-1.2652376,51.7778921
END:VEVENT
END:VCALENDAR