BEGIN:VCALENDAR
VERSION:2.0
PRODID:-//The Oxford Magazine - ECPv6.15.20//NONSGML v1.0//EN
CALSCALE:GREGORIAN
METHOD:PUBLISH
X-WR-CALNAME:The Oxford Magazine
X-ORIGINAL-URL:https://theoxfordmagazine.com
X-WR-CALDESC:Events for The Oxford Magazine
REFRESH-INTERVAL;VALUE=DURATION:PT1H
X-Robots-Tag:noindex
X-PUBLISHED-TTL:PT1H
BEGIN:VTIMEZONE
TZID:Europe/London
BEGIN:DAYLIGHT
TZOFFSETFROM:+0000
TZOFFSETTO:+0100
TZNAME:BST
DTSTART:20250330T010000
END:DAYLIGHT
BEGIN:STANDARD
TZOFFSETFROM:+0100
TZOFFSETTO:+0000
TZNAME:GMT
DTSTART:20251026T010000
END:STANDARD
BEGIN:DAYLIGHT
TZOFFSETFROM:+0000
TZOFFSETTO:+0100
TZNAME:BST
DTSTART:20260329T010000
END:DAYLIGHT
BEGIN:STANDARD
TZOFFSETFROM:+0100
TZOFFSETTO:+0000
TZNAME:GMT
DTSTART:20261025T010000
END:STANDARD
BEGIN:DAYLIGHT
TZOFFSETFROM:+0000
TZOFFSETTO:+0100
TZNAME:BST
DTSTART:20270328T010000
END:DAYLIGHT
BEGIN:STANDARD
TZOFFSETFROM:+0100
TZOFFSETTO:+0000
TZNAME:GMT
DTSTART:20271031T010000
END:STANDARD
END:VTIMEZONE
BEGIN:VEVENT
DTSTART;TZID=Europe/London:20260321T000000
DTEND;TZID=Europe/London:20260412T235959
DTSTAMP:20260424T010329
CREATED:20240301T172053Z
LAST-MODIFIED:20260327T014231Z
UID:10009425-1774051200-1776038399@theoxfordmagazine.com
SUMMARY:Easter Adventures at Greys Court
DESCRIPTION:Easter Adventures at Greys Court\n\n\n\n\n\n\n\n\nAbout Easter Adventures at Greys Court\n\n\n\nThis spring\, treat the whole family to a world of adventure at Greys Court on an Easter trail. \n\n\n\nMake your way along the trail and find activities for the whole family. The trail takes place between 21 March to Sunday 12 April\, from 10.00am to 5.00pm\, with the last entry at 4.00pm\, so come along and explore the beautiful parkland and gardens of Greys Court. \n\n\n\nPrices are £3.50 per trail which includes an Easter trail sheet\, bunny ears\, and dairy or vegan and Free From* chocolate egg. \n\n\n\n*Suitable for people with milk\, egg\, gluten\, peanut\, and tree nut allergies. \n\n\n\nBooking is not needed – admission applies. \n\n\n\n\n\n\n\nTickets\n\n\n\n\n\n\n\nPlease see important booking information below. \n\n\n\n\n\n\n\nBooking information\n\n\n\nTickets prices: \n\n\n\n£3.50 plus admission \n\n\n\nDates & times: \n\n\n\nSaturday 21 March to Sunday 12 April 2026 at 10.00am \n\n\n\nAge guidance \n\n\n\nSuitable for children aged 3+ \n\n\n\nGood to know: \n\n\n\n\nCollect your trail sheets at Visitor Reception and head to trail point 1 to start.\n\n\n\nWear clothes and shoes suitable for walking in the parkland.\n\n\n\nThe ground is uneven and often muddy\, so not always suitable for wheelchair users and some lightweight prams.\n\n\n\nBooking not needed.\n\n\n\nAdmission applies.
URL:https://theoxfordmagazine.com/event/easter-egg-hunt-at-greys-court/
LOCATION:Greys Court\, Henley-on-Thames\, Rotherfield Greys\, Henley-on-Thames\, Oxfordshire\, RG9 4PG
CATEGORIES:Workshops
ATTACH;FMTTYPE=image/jpeg:https://theoxfordmagazine.com/wp-content/uploads/Easter-Adventures-at-Greys-Court.webp
GEO:51.5439837;-0.9560794
X-APPLE-STRUCTURED-LOCATION;VALUE=URI;X-ADDRESS=Greys Court Henley-on-Thames Rotherfield Greys Henley-on-Thames Oxfordshire RG9 4PG;X-APPLE-RADIUS=500;X-TITLE=Rotherfield Greys:geo:-0.9560794,51.5439837
END:VEVENT
BEGIN:VEVENT
DTSTART;TZID=Europe/London:20260328T000000
DTEND;TZID=Europe/London:20260406T235959
DTSTAMP:20260424T010329
CREATED:20240310T142213Z
LAST-MODIFIED:20260327T013110Z
UID:10010424-1774656000-1775519999@theoxfordmagazine.com
SUMMARY:Easter Adventures at Waddesdon Manor
DESCRIPTION:Easter Adventures at Waddesdon Manor\n\n\n\n\n\n\n\n\nAbout Easter Adventures at Waddesdon Manor\n\n\n\nVisit Waddesdon Manor this Easter for a fun-filled Easter adventure sure to surprise and delight. \n\n\n\nEaster Adventures Trail \n\n\n\nThis Easter the Waddesdon Manor trail is jam-packed with lots of fun games and creative activities. Follow your map\, get involved in each activity\, and don’t forget to collect your chocolate egg at the end! \n\n\n\nPick up your trail sheet on arrival at the Welcome Pavillion or at Visitor Information. The trail starts on the North Front of the Manor and makes its way around the grounds before ending at the Coach House down at the Stables where you can collect your egg (free from eggs available).  \n\n\n\nLast collection from the Stables is at 4.00pm. \n\n\n\nTo guarantee a place\, tickets must be pre-booked. £3.50 per child (one egg per trail). \n\n\n\n\n\n\n\nTickets\n\n\n\n\n\n\n\nPlease see important booking information below. \n\n\n\n\n\n\n\nBooking information\n\n\n\nTicket prices: \n\n\n\n\n£3.50 per child (one egg per trail)\n\n\n\nNormal grounds admission applies.\n\n\n\nAdditional activity charges apply.\n\n\n\nTickets must be pre-booked to guarantee a place.\n\n\n\n\nDates & times: \n\n\n\n\nSaturday 28 to Sunday 29 March and Wednesday 01 to Monday 06 April 2026\n\n\n\nGrounds are open from 10.00am to 5.00pm.
URL:https://theoxfordmagazine.com/event/easter-at-waddesdon-manor/
LOCATION:Waddesdon Manor\, Aylesbury\, Waddesdon Manor\, Aylesbury\, Buckinghamshire\, HP18 0JH
CATEGORIES:Workshops
ATTACH;FMTTYPE=image/jpeg:https://theoxfordmagazine.com/wp-content/uploads/Easter-Adventures-at-Waddesdon-Manor.webp
GEO:51.8422698;-0.9375034
X-APPLE-STRUCTURED-LOCATION;VALUE=URI;X-ADDRESS=Waddesdon Manor Aylesbury Waddesdon Manor Aylesbury Buckinghamshire HP18 0JH;X-APPLE-RADIUS=500;X-TITLE=Waddesdon Manor:geo:-0.9375034,51.8422698
END:VEVENT
BEGIN:VEVENT
DTSTART;TZID=Europe/London:20260328T000000
DTEND;TZID=Europe/London:20260412T235959
DTSTAMP:20260424T010329
CREATED:20220401T090000Z
LAST-MODIFIED:20260327T134817Z
UID:10004611-1774656000-1776038399@theoxfordmagazine.com
SUMMARY:Easter at Tumblestone Hollow
DESCRIPTION:Easter at Tumblestone Hollow\n\n\n\n\n\n\n\n\nAbout Easter at Tumblestone Hollow\n\n\n\nGet ready for an egg-citing adventure at Stonor this Easter. This popular Easter Trail returns to our beautiful gardens and Tumblestone Hollow.  \n\n\n\nAn exciting selection of wholesome fun awaits! Discover the Easter Trail\, nature walk\, craft activities\, and storytelling sessions\, all within the picturesque backdrop of the gardens and woodland adventure playground. \n\n\n\nRefuel at The Rumble Hut\, savouring delicious wood-fired pizzas\, Classic hamburgers\, and fries\, American-style milkshakes & Italian gelato ice cream. \n\n\n\nStorytelling times are 11.00am\, 1.00pm\, and 3.00pm daily. \n\n\n\nFree on-site parking. \n\n\n\nDogs are loved but unfortunately\, they aren’t allowed within the adventure playground area and Stonor Gardens. \n\n\n\n\n\n\n\nTickets\n\n\n\n\n\n\n\nPlease see important booking information below. \n\n\n\n\n\n\n\nBooking information\n\n\n\nTicket prices: \n\n\n\nAdult (16+) – From £12.25 \n\n\n\nChild (from 5 years) – From £13.50 \n\n\n\nChild (3-4 years) – From £11.50 \n\n\n\nChild (up to 2 years) – Free \n\n\n\nCarer – Free \n\n\n\nDates & times: \n\n\n\nSaturday 28 March to Sunday 12 April 2026  \n\n\n\nStorytelling times – 11.00am\, 1.00pm\, and 3.00pm daily
URL:https://theoxfordmagazine.com/event/easter-trail-at-tumblestone-hollow-stonor-gardens/
LOCATION:Stonor Park\, Henley-on-Thames\, Stonor\, Henley-on-Thames\, Oxfordshire\, RG9 6HF
CATEGORIES:Workshops
ATTACH;FMTTYPE=image/jpeg:https://theoxfordmagazine.com/wp-content/uploads/Easter-Trail-at-Tumblestone-Hollow-Stonor-Park-6.webp
GEO:51.5981259;-0.9294491
X-APPLE-STRUCTURED-LOCATION;VALUE=URI;X-ADDRESS=Stonor Park Henley-on-Thames Stonor Henley-on-Thames Oxfordshire RG9 6HF;X-APPLE-RADIUS=500;X-TITLE=Stonor:geo:-0.9294491,51.5981259
END:VEVENT
BEGIN:VEVENT
DTSTART;TZID=Europe/London:20260328T000000
DTEND;TZID=Europe/London:20260412T235959
DTSTAMP:20260424T010329
CREATED:20240302T125203Z
LAST-MODIFIED:20260327T021052Z
UID:10009451-1774656000-1776038399@theoxfordmagazine.com
SUMMARY:Easter Fun at Cogges Manor Farm
DESCRIPTION:Easter Fun at Cogges Manor Farm\n\n\n\n\n\n\n\n\nAbout Easter Fun at Cogges Manor Farm\n\n\n\nCogges springs to life with farmyard fun and a new season of family-friendly events. Meet the farmyard animals\, sheep and goats\, ponies\, lambs\, chickens\, ducks and turkeys\, including many rare breeds.  \n\n\n\nFor the Easter/Spring holidays\, there’s lots to enjoy.    \n\n\n\n\nAlice’s Wonderland: Wander into the historic Manor House and you’ll step into the world of Alice in Wonderland! See the Mad Hatter at his tea party and the Queen of Hearts in her Parlour (included in admission)\n\n\n\nCupcakes in the Pantry: Take a break and enjoy a delicious cupcake from Alice’s Pantry on the ground floor of the Manor House (Easter weekend only 10.00am-4.00pm)   \n\n\n\nEaster Craft Activites: Head to the back kitchen in the house and take part in some lovely Easter Craft Activities (available everyday\, included in admission)  \n\n\n\nBaking demonstrations on the 19th Century Range: See baking on this fascinating and original 200 year old Range (11.00am-2.00pm most days\, subject to volunteer availability)\n\n\n\nHunt for knitted rabbits in the Manor House Our hunt will have you hopping all over the fascinating 800-year-old Manor House.  Count the rabbits and collect a special certificate from the Welcome Desk (included in admission)\n\n\n\nMeet the chicks and lambs Out on the farm\, meet the friendly animals\, see the fluffiest of chicks in our special hatchery and meet the cutest lambs from 1st April  (included in admission)\n\n\n\nHunt for the Easter Eggs in the Straw: Jump into the straw in our stable and find the hidden easter eggs for a prize. £2 per go.  (10.00am-3.00pm 1st-8th April)\n\n\n\nFollow the Wonderland Trail: Alice’s Wonderland Trail will take you to all corners of Cogges Manor Farm. Tick off the trail as you go\, spot them all and collect your prize from the Welcome Desk (included in admission)\n\n\n\nTry out our brand new Mini-Tractors: We’ve got lots of brand new mini-tractors for little farmers to enjoy (included in admission)\n\n\n\nBrand new supersize sandpit: 5 tonnes of supersoft sand in a custom made supersize sandpit – get digging! (included in admission)\n\n\n\nMeet our new milkable model cow: Freya is our new model cow\, you’ll find her near the sandpit area\, she’s a beauty and can be milked too! (included in admission)\n\n\n\nFeel like the Queen of Hearts In the Café: Delicious breakfasts\, light lunches\, children’s menu\, tasty treats\, homemade cakes and bakes are fit for royalty.\n\n\n\n\n\n\n\n\nTickets\n\n\n\nNormal admission applies. Free entry for Annual Ticket Holders \n\n\n\n\n\n\n\nPlease see important booking information below. \n\n\n\n\n\n\n\nBooking information\n\n\n\nDates and times: \n\n\n\nSaturday 28 March to Sunday 12 April 2026 \n\n\n\nThe farm is open daily from 9.30am until 5.00pm (last entry at 4.30pm).
URL:https://theoxfordmagazine.com/event/easter-at-cogges/
LOCATION:Cogges Manor Farm\, Witney\, Church Lane\, Witney\, Oxfordshire\, OX28 3LA
CATEGORIES:Workshops
ATTACH;FMTTYPE=image/jpeg:https://theoxfordmagazine.com/wp-content/uploads/easter-at-cogges-01-1920x1080-1.webp
GEO:51.7848825;-1.4762596
X-APPLE-STRUCTURED-LOCATION;VALUE=URI;X-ADDRESS=Cogges Manor Farm Witney Church Lane Witney Oxfordshire OX28 3LA;X-APPLE-RADIUS=500;X-TITLE=Church Lane:geo:-1.4762596,51.7848825
END:VEVENT
BEGIN:VEVENT
DTSTART;TZID=Europe/London:20260328T000000
DTEND;TZID=Europe/London:20260412T235959
DTSTAMP:20260424T010329
CREATED:20240306T174905Z
LAST-MODIFIED:20260327T015056Z
UID:10009463-1774656000-1776038399@theoxfordmagazine.com
SUMMARY:Spring on the Farm
DESCRIPTION:Spring on the Farm\n\n\n\n\n\n\n\n\nAbout Spring on the Farm\n\n\n\nSpring is one of the best times on the farm as new life appears once again. This Easter we’ll be celebrating the fresh new season with bouncy lambs\, goat kids\, hatchlings\, and even special appearances from the Easter Bunny! So much farm park fun this Spring! \n\n\n\nWith Spring babies galore\, close-up animal encounters\, oodles of play space\, Easter bunnies and seasonal trails to enjoy\, this Easter is the perfect time to join in some family fun. \n\n\n\nThere’s so much farm park fun on offer this Spring\, and your tickets include all of the following: \n\n\n\n\nBottle-feeding lambs\n\n\n\nChick hatching and handling\n\n\n\nSunflower seed planting\n\n\n\nRare breed farm animals\, including goat kids\n\n\n\nDaily bird display and programme of animal encounters\n\n\n\nIndoor and outdoor adventure play\n\n\n\nSpring trail\n\n\n\nEaster bunny appearances (Easter weekend only)\n\n\n\n\n\n\n\n\nTickets\n\n\n\n\n\n\n\nPlease see important booking information below. \n\n\n\n\n\n\n\nBooking information\n\n\n\nTicket prices: \n\n\n\nAdult and Child Day Tickets – £15.95 \n\n\n\nDisabled + Carer Day Ticket\, Senior (65+) Day Ticket – £15.95 \n\n\n\nToddler Day Ticket – £7.98 \n\n\n\nFree for under 2s. \n\n\n\nDates and times: \n\n\n\nSaturday 28 March to Monday 12 April 2026 \n\n\n\nOpen daily from 10.00am to 5.30pm\, with last admission at 4.00pm.  \n\n\n\nAge guidance:  \n\n\n\nSuitable for all ages. \n\n\n\n\n\n\n\n\nGallery\n\n\n\nClick image to expand
URL:https://theoxfordmagazine.com/event/spring-on-the-farm/
LOCATION:Hogshaw Farm & Wildlife Park\, Claydon Road\, Hogshaw\, Buckinghamshire\, MK18 3LA
CATEGORIES:Workshops
ATTACH;FMTTYPE=image/jpeg:https://theoxfordmagazine.com/wp-content/uploads/Spring-on-the-Farm.webp
GEO:51.9290084;-0.9063016
X-APPLE-STRUCTURED-LOCATION;VALUE=URI;X-ADDRESS=Hogshaw Farm & Wildlife Park Claydon Road Hogshaw Buckinghamshire MK18 3LA;X-APPLE-RADIUS=500;X-TITLE=Claydon Road\, Hogshaw:geo:-0.9063016,51.9290084
END:VEVENT
BEGIN:VEVENT
DTSTART;TZID=Europe/London:20260328T100000
DTEND;TZID=Europe/London:20260419T173000
DTSTAMP:20260424T010329
CREATED:20220401T092000Z
LAST-MODIFIED:20260327T011100Z
UID:10004745-1774692000-1776619800@theoxfordmagazine.com
SUMMARY:Big Easter Bunny Hunt
DESCRIPTION:Big Easter Bunny Hunt\n\n\n\n\n\n\n\n\nAbout Big Easter Bunny Hunt \n\n\n\nDon’t worry\, be hoppy this Easter! \n\n\n\nVisitors to Waterperry Gardens this Easter holiday are invited to hop along—bunny costumes optional—for a fun-filled adventure in search of missing carrots scattered throughout the stunning spring gardens. \n\n\n\nThe Waterperry bunny has dropped carrots across the grounds\, and it’s up to keen explorers to sniff them out. Using the provided map\, participants can mark each carrot’s location as they go. Along the way\, they’ll also uncover letters on the carrots that spell out a hidden word – solve the puzzle and claim a prize from the Garden Shop! \n\n\n\nChildren must be accompanied by an adult\, for whom the standard garden entrance fee applies. The gardens are open daily from 10.00 am to 5.30 pm\, including throughout the Easter period. \n\n\n\nNo pre-booking is required – just turn up\, enjoy the adventure\, and embrace the Easter spirit! \n\n\n\n\n\n\n\nTickets\n\n\n\n\n\n\n\nPlease see important booking information below. \n\n\n\n\n\n\n\nBooking information\n\n\n\nTicket prices:  \n\n\n\nGarden entrance fees: \n\n\n\nAdult – £12.95 \n\n\n\nChildren (Aged 16 and under) – Free \n\n\n\n£4.75 per child\, including a prize. Children must be accompanied by an adult for whom the garden entrance fee applies. \n\n\n\nDates & times: \n\n\n\nTrail is open from Saturday 28 March to Sunday 19 April from 10.00am to 5.30pm \n\n\n\nRunning time: \n\n\n\n6 hours 30 minutes
URL:https://theoxfordmagazine.com/event/big-easter-bunny-hunt-at-waterperry-gardens/
LOCATION:Waterperry Gardens\, Waterperry Gardens\, Wheatley\, Oxfordshire\, OX33 1JZ
CATEGORIES:Workshops
ATTACH;FMTTYPE=image/jpeg:https://theoxfordmagazine.com/wp-content/uploads/Big-Easter-Bunny-Hunt-1.webp
GEO:51.7525757;-1.0888286
X-APPLE-STRUCTURED-LOCATION;VALUE=URI;X-ADDRESS=Waterperry Gardens Waterperry Gardens Wheatley Oxfordshire OX33 1JZ;X-APPLE-RADIUS=500;X-TITLE=Waterperry Gardens:geo:-1.0888286,51.7525757
END:VEVENT
BEGIN:VEVENT
DTSTART;TZID=Europe/London:20260403T000000
DTEND;TZID=Europe/London:20260406T235959
DTSTAMP:20260424T010329
CREATED:20220407T090000Z
LAST-MODIFIED:20260327T143955Z
UID:10004601-1775174400-1775519999@theoxfordmagazine.com
SUMMARY:Easter at Blenheim Palace
DESCRIPTION:Easter at Blenheim Palace\n\n\n\n\n\n\n\n\nAbout Easter at Blenheim Palace\n\n\n\nVisit Blenheim Palace for a perfect family day out during the 2026 Easter weekend. An egg-citing Easter weekend will fill the Walled Garden with fun once again this Spring from Friday\, 03 to Monday\, 06 April 2026. \n\n\n\nFrom outdoor adventures to springtime surprises\, there’ll be plenty to discover\, play with and explore. Whether it’s spotting seasonal sights around the gardens\, enjoying interactive moments\, or simply running wild in the great outdoors\, there’s fun waiting for visitors of all ages. \n\n\n\nKeep little ones busy with our Easter egg hunt around the grounds\, and why not visit the Walled Garden Pizzeria to refuel with a delicious wood-fired pizza. \n\n\n\nBook your tickets now for a perfect family Easter weekend…you might even see the Easter Bunny! \n\n\n\n\n\n\n\nTickets\n\n\n\n\n\n\n\nPlease see important booking information below. \n\n\n\n\n\n\n\nBooking information\n\n\n\nTickets required: \n\n\n\nEntrance is free with a valid pass or day ticket. \n\n\n\nAlthough entry is included with valid passes or day tickets\, some activities may have an additional charge. \n\n\n\nLocation: \n\n\n\nAll activities will take place in the Walled Garden. \n\n\n\nTime: \n\n\n\nFrom 10.00am to 5.00pm \n\n\n\n\n\n\n\nGood to know\n\n\n\n\nDisabled toilets will be located in the Walled Garden and car park area. \n\n\n\nParking is available opposite the Walled Garden.\n\n\n\nDogs are allowed outside the Walled Garden but not within or in the Formal Gardens.\n\n\n\n\n\n\n\n\n\n\n\n\nGallery
URL:https://theoxfordmagazine.com/event/easter-at-blenheim-palace/
LOCATION:Blenheim Palace\, Woodstock\, Blenheim Park\, Woodstock\, Oxfordshire\, OX20 1PP
CATEGORIES:Workshops
ATTACH;FMTTYPE=image/jpeg:https://theoxfordmagazine.com/wp-content/uploads/easter-weekend-at-blenheim-palace-02-1920x1080-1.webp
GEO:51.8463865;-1.3622664
X-APPLE-STRUCTURED-LOCATION;VALUE=URI;X-ADDRESS=Blenheim Palace Woodstock Blenheim Park Woodstock Oxfordshire OX20 1PP;X-APPLE-RADIUS=500;X-TITLE=Blenheim Park:geo:-1.3622664,51.8463865
END:VEVENT
END:VCALENDAR